BEGIN:VCALENDAR
VERSION:2.0
PRODID:-//Cubana Tapas Bar - ECPv6.7.0//NONSGML v1.0//EN
CALSCALE:GREGORIAN
METHOD:PUBLISH
X-WR-CALNAME:Cubana Tapas Bar
X-ORIGINAL-URL:https://cubanatapasbar.co.uk/events
X-WR-CALDESC:Events for Cubana Tapas Bar
REFRESH-INTERVAL;VALUE=DURATION:PT1H
X-Robots-Tag:noindex
X-PUBLISHED-TTL:PT1H
BEGIN:VTIMEZONE
TZID:Europe/Dublin
BEGIN:STANDARD
TZOFFSETFROM:+0000
TZOFFSETTO:+0100
TZNAME:IST
DTSTART:20240331T010000
END:STANDARD
BEGIN:DAYLIGHT
TZOFFSETFROM:+0100
TZOFFSETTO:+0000
TZNAME:GMT
DTSTART:20241027T010000
END:DAYLIGHT
END:VTIMEZONE
BEGIN:VEVENT
DTSTART;TZID=Europe/Dublin:20241003T193000
DTEND;TZID=Europe/Dublin:20241003T213000
DTSTAMP:20260425T140412
CREATED:20241009T135018Z
LAST-MODIFIED:20241009T135020Z
UID:8295-1727983800-1727991000@cubanatapasbar.co.uk
SUMMARY:Oscar Wood
DESCRIPTION:Tapas Restaurant (upstairs) – OSCAR WOOD\nOscar performs at Cubana and takes you all the way to the 1950’s and back again with a varied selection of hits throughout the decades – what an amazing voice! Move aside Michael Bublé
URL:https://cubanatapasbar.co.uk/events/event/oscar-wood-71/
LOCATION:Cubana Tapas Bar\, Cubana Tapas Bar\, 4 Leopold Square\, Sheffield\, S1 2JG\, United Kingdom
CATEGORIES:Upcoming
ORGANIZER;CN="Cubana Tapas Bar":MAILTO:info@cubanatapasbar.co.uk
END:VEVENT
BEGIN:VEVENT
DTSTART;TZID=Europe/Dublin:20241003T213000
DTEND;TZID=Europe/Dublin:20241003T233000
DTSTAMP:20260425T140412
CREATED:20241009T135018Z
LAST-MODIFIED:20241009T135021Z
UID:8296-1727991000-1727998200@cubanatapasbar.co.uk
SUMMARY:Nicola Farnon Trio ft Dan Millson
DESCRIPTION:Downstairs cocktail Bar – NICOLA FARNON TRIO FEAT DAN MILLSON The Amazing Nicola Farnon Trio with Nicola\, Piero Tucci and Phil Johnson (toe tapping jazz\, swing) followed by the incredibly talented Madrid based singer songwriter Dan Millson backed by the trio.\n(Bill Withers\, Sting\, Bob Marley\, Oasis) Join us for a memorable night of music that is sure to include something for everyone!
URL:https://cubanatapasbar.co.uk/events/event/nicola-farnon-trio-ft-dan-millson/
LOCATION:Cubana Tapas Bar\, Cubana Tapas Bar\, 4 Leopold Square\, Sheffield\, S1 2JG\, United Kingdom
CATEGORIES:This week events
ORGANIZER;CN="Cubana Tapas Bar":MAILTO:info@cubanatapasbar.co.uk
END:VEVENT
END:VCALENDAR