BEGIN:VCALENDAR
VERSION:2.0
PRODID:-//Cubana Tapas Bar - ECPv6.7.0//NONSGML v1.0//EN
CALSCALE:GREGORIAN
METHOD:PUBLISH
X-WR-CALNAME:Cubana Tapas Bar
X-ORIGINAL-URL:https://cubanatapasbar.co.uk/events
X-WR-CALDESC:Events for Cubana Tapas Bar
REFRESH-INTERVAL;VALUE=DURATION:PT1H
X-Robots-Tag:noindex
X-PUBLISHED-TTL:PT1H
BEGIN:VTIMEZONE
TZID:Europe/Dublin
BEGIN:STANDARD
TZOFFSETFROM:+0000
TZOFFSETTO:+0100
TZNAME:IST
DTSTART:20250330T010000
END:STANDARD
BEGIN:DAYLIGHT
TZOFFSETFROM:+0100
TZOFFSETTO:+0000
TZNAME:GMT
DTSTART:20251026T010000
END:DAYLIGHT
END:VTIMEZONE
BEGIN:VEVENT
DTSTART;TZID=Europe/Dublin:20250409T193000
DTEND;TZID=Europe/Dublin:20250409T213000
DTSTAMP:20260424T193422
CREATED:20250403T063233Z
LAST-MODIFIED:20250403T065811Z
UID:9132-1744227000-1744234200@cubanatapasbar.co.uk
SUMMARY:Ian Britt
DESCRIPTION:IAN BRITT\nA seasoned acoustic guitarist and singer-songwriter with over 14 million Spotify streams of his own music. From golden oldies right the way through to modern pop\, Ian will be performing songs you’ll know and love with his unique spin on them.\n— \nWe are ready once again to provide you with a host of fabulous live music performances from the very many talented artists who have played here over recent times. \nWe would like to show our support to the amazing musicians who have been unable to work much and who have had a tough time of it lately by hosting as many gigs as possible. They too\, would love you to come down and see them perform. \nTo get back into the swing of things\, we will be mainly hosting solo artists and occasional duos. Get ready for plenty live Soul\, Funk\, Jazz\, Blues\, R&B\, pop and more! \nWhy not book a table for tapas and drinks and sit back and enjoy the laid back sultry rhythms and mellow vibes. \nWe cannot wait to get the rhythms flowing and finally get the show back on the road!
URL:https://cubanatapasbar.co.uk/events/event/ian-britt-25/
LOCATION:Cubana Tapas Bar\, Cubana Tapas Bar\, 4 Leopold Square\, Sheffield\, S1 2JG\, United Kingdom
CATEGORIES:Upcoming
ATTACH;FMTTYPE=image/jpeg:https://cubanatapasbar.co.uk/events/wp-content/uploads/2023/03/Ian-Britt.jpeg
ORGANIZER;CN="Cubana Tapas Bar":MAILTO:info@cubanatapasbar.co.uk
END:VEVENT
BEGIN:VEVENT
DTSTART;TZID=Europe/Dublin:20250409T203000
DTEND;TZID=Europe/Dublin:20250409T230000
DTSTAMP:20260424T193422
CREATED:20250403T063234Z
LAST-MODIFIED:20250403T063234Z
UID:9133-1744230600-1744239600@cubanatapasbar.co.uk
SUMMARY:The Big Swing with The Jim Burke Band
DESCRIPTION:The Big Swing – every Wednesday in the DOWNSTAIRS LOUNGE BAR from 8:00pm\nFREE Swing Dance class for beginners \nTHE BIG SWING with THE JIM BURKE BAND\nGet ready for a night of good-time music with The Jim Burke Band! This Sheffield-based group of live music veterans blends blues\, jazz\, and ragtime into an energetic and entertaining show. For this special gig\, they’ll be turning up the swing to keep our dancefloor moving\, bringing their expert musicianship and lively rhythms to the floor. Expect plenty of toe-tapping\, foot-stomping\, and non-stop fun all night long!
URL:https://cubanatapasbar.co.uk/events/event/the-big-swing-with-the-jim-burke-band-2/
LOCATION:Cubana Tapas Bar\, Cubana Tapas Bar\, 4 Leopold Square\, Sheffield\, S1 2JG\, United Kingdom
CATEGORIES:This week events
ORGANIZER;CN="Cubana Tapas Bar":MAILTO:info@cubanatapasbar.co.uk
END:VEVENT
END:VCALENDAR