BEGIN:VCALENDAR
VERSION:2.0
PRODID:-//Cubana Tapas Bar - ECPv6.7.0//NONSGML v1.0//EN
CALSCALE:GREGORIAN
METHOD:PUBLISH
X-ORIGINAL-URL:https://cubanatapasbar.co.uk/events
X-WR-CALDESC:Events for Cubana Tapas Bar
REFRESH-INTERVAL;VALUE=DURATION:PT1H
X-Robots-Tag:noindex
X-PUBLISHED-TTL:PT1H
BEGIN:VTIMEZONE
TZID:Europe/Dublin
BEGIN:STANDARD
TZOFFSETFROM:+0000
TZOFFSETTO:+0100
TZNAME:IST
DTSTART:20250330T010000
END:STANDARD
BEGIN:DAYLIGHT
TZOFFSETFROM:+0100
TZOFFSETTO:+0000
TZNAME:GMT
DTSTART:20251026T010000
END:DAYLIGHT
END:VTIMEZONE
BEGIN:VEVENT
DTSTART;TZID=Europe/Dublin:20250321T203000
DTEND;TZID=Europe/Dublin:20250321T223000
DTSTAMP:20260424T224045
CREATED:20250303T122448Z
LAST-MODIFIED:20250303T131421Z
UID:9024-1742589000-1742596200@cubanatapasbar.co.uk
SUMMARY:The Power Trio
DESCRIPTION:THE POWER TRIO\nThe Power Trio\, a dynamic neo-soul/jazz ensemble led by the multi-talented Ryan Taylor. Renowned for his keyboard prowess\, soulful vocals\, and charismatic stage presence\, Ryan channels the spirit of James Brown\, Herbie Hancock\, Cory Henry\, Stevie Wonder\, Jamiroquai and Prince as he masterfully orchestrates the band’s sonic journey.– \nWe are ready once again to provide you with a host of fabulous live music performances from the very many talented artists who have played here over recent times. \nWe would like to show our support to the amazing musicians who have been unable to work much and who have had a tough time of it lately by hosting as many gigs as possible. They too\, would love you to come down and see them perform. \nTo get back into the swing of things\, we will be mainly hosting solo artists and occasional duos. Get ready for plenty live Soul\, Funk\, Jazz\, Blues\, R&B\, pop and more! \nWhy not book a table for tapas and drinks and sit back and enjoy the laid back sultry rhythms and mellow vibes. \nWe cannot wait to get the rhythms flowing and finally get the show back on the road!
URL:https://cubanatapasbar.co.uk/events/event/the-power-trio/
LOCATION:Cubana Tapas Bar\, Cubana Tapas Bar\, 4 Leopold Square\, Sheffield\, S1 2JG\, United Kingdom
CATEGORIES:This week events
ATTACH;FMTTYPE=image/jpeg:https://cubanatapasbar.co.uk/events/wp-content/uploads/2024/11/Ryan-Trio.jpg
ORGANIZER;CN="Cubana Tapas Bar":MAILTO:info@cubanatapasbar.co.uk
END:VEVENT
BEGIN:VEVENT
DTSTART;TZID=Europe/Dublin:20250321T203000
DTEND;TZID=Europe/Dublin:20250321T230000
DTSTAMP:20260424T224046
CREATED:20250303T122449Z
LAST-MODIFIED:20250303T131439Z
UID:9025-1742589000-1742598000@cubanatapasbar.co.uk
SUMMARY:Oscar Wood
DESCRIPTION:OSCAR WOOD\nOscar performs at Cubana and takes you all the way to the 1950’s and back again with a varied selection of hits throughout the decades – what an amazing voice! Move aside Michael Bublé
URL:https://cubanatapasbar.co.uk/events/event/oscar-wood-89/
LOCATION:Cubana Tapas Bar\, Cubana Tapas Bar\, 4 Leopold Square\, Sheffield\, S1 2JG\, United Kingdom
CATEGORIES:Upcoming
ATTACH;FMTTYPE=image/jpeg:https://cubanatapasbar.co.uk/events/wp-content/uploads/2022/09/Oscar-Wood.jpeg
ORGANIZER;CN="Cubana Tapas Bar":MAILTO:info@cubanatapasbar.co.uk
END:VEVENT
END:VCALENDAR