BEGIN:VCALENDAR
VERSION:2.0
PRODID:-//Cubana Tapas Bar - ECPv6.7.0//NONSGML v1.0//EN
CALSCALE:GREGORIAN
METHOD:PUBLISH
X-WR-CALNAME:Cubana Tapas Bar
X-ORIGINAL-URL:https://cubanatapasbar.co.uk/events
X-WR-CALDESC:Events for Cubana Tapas Bar
REFRESH-INTERVAL;VALUE=DURATION:PT1H
X-Robots-Tag:noindex
X-PUBLISHED-TTL:PT1H
BEGIN:VTIMEZONE
TZID:Europe/Dublin
BEGIN:STANDARD
TZOFFSETFROM:+0000
TZOFFSETTO:+0100
TZNAME:IST
DTSTART:20250330T010000
END:STANDARD
BEGIN:DAYLIGHT
TZOFFSETFROM:+0100
TZOFFSETTO:+0000
TZNAME:GMT
DTSTART:20251026T010000
END:DAYLIGHT
END:VTIMEZONE
BEGIN:VEVENT
DTSTART;TZID=Europe/Dublin:20251101T210000
DTEND;TZID=Europe/Dublin:20251102T020000
DTSTAMP:20260420T203530
CREATED:20251103T002227Z
LAST-MODIFIED:20251103T002746Z
UID:10215-1762030800-1762048800@cubanatapasbar.co.uk
SUMMARY:DJ Ckastley (El Rey de Zongue)
DESCRIPTION:BRASILICA EVERY SATURDAY\nCUBANA COCKTAIL LOUNGE-DOWNSTAIRS from 9pm \nJoin us every Saturday for the perfect party mix up of Latin sounds. \nFrom Brazil to Cuba via the UK and beyond…
URL:https://cubanatapasbar.co.uk/events/event/dj-ckastley-el-rey-de-zongue-2/
LOCATION:Cubana Tapas Bar\, Cubana Tapas Bar\, 4 Leopold Square\, Sheffield\, S1 2JG\, United Kingdom
CATEGORIES:This week events
ATTACH;FMTTYPE=image/jpeg:https://cubanatapasbar.co.uk/events/wp-content/uploads/2021/12/ckastley.jpeg
ORGANIZER;CN="Cubana Tapas Bar":MAILTO:info@cubanatapasbar.co.uk
END:VEVENT
BEGIN:VEVENT
DTSTART;TZID=Europe/Dublin:20251107T224500
DTEND;TZID=Europe/Dublin:20251108T020000
DTSTAMP:20260420T203530
CREATED:20251103T002213Z
LAST-MODIFIED:20251103T003253Z
UID:10211-1762555500-1762567200@cubanatapasbar.co.uk
SUMMARY:DJ Roly (Havana\, Cuba)
DESCRIPTION:VIVA REGGAETON – EVERY FRIDAY\nCUBANA COCKTAIL LOUNGE- DOWNSTAIRS from 10pm \nSheffield’s original Latino Club night… Latin music\, Salsa\, Samba\, Mambo\, Bachata. Special guest DJs EVERY WEEK
URL:https://cubanatapasbar.co.uk/events/event/dj-roly-havana-cuba-25/
LOCATION:Cubana Tapas Bar\, Cubana Tapas Bar\, 4 Leopold Square\, Sheffield\, S1 2JG\, United Kingdom
CATEGORIES:This week events
ATTACH;FMTTYPE=image/jpeg:https://cubanatapasbar.co.uk/events/wp-content/uploads/2019/01/rolyphoto.jpg
ORGANIZER;CN="Cubana Tapas Bar":MAILTO:info@cubanatapasbar.co.uk
END:VEVENT
BEGIN:VEVENT
DTSTART;TZID=Europe/Dublin:20251108T210000
DTEND;TZID=Europe/Dublin:20251109T020000
DTSTAMP:20260420T203530
CREATED:20251103T002227Z
LAST-MODIFIED:20251103T003335Z
UID:10216-1762635600-1762653600@cubanatapasbar.co.uk
SUMMARY:DJ Ebo (Baila Reggaeton UK)
DESCRIPTION:BRASILICA EVERY SATURDAY\nCUBANA COCKTAIL LOUNGE-DOWNSTAIRS from 9pm \nJoin us every Saturday for the perfect party mix up ofÊ Latin sounds. \nFrom Brazil to Cuba via the UK and beyond…
URL:https://cubanatapasbar.co.uk/events/event/dj-ebo-baila-reggaeton-uk-8/
LOCATION:Cubana Tapas Bar\, Cubana Tapas Bar\, 4 Leopold Square\, Sheffield\, S1 2JG\, United Kingdom
CATEGORIES:This week events
ATTACH;FMTTYPE=image/jpeg:https://cubanatapasbar.co.uk/events/wp-content/uploads/2019/02/dj-ebo.jpg
ORGANIZER;CN="Cubana Tapas Bar":MAILTO:info@cubanatapasbar.co.uk
END:VEVENT
BEGIN:VEVENT
DTSTART;TZID=Europe/Dublin:20251114T224500
DTEND;TZID=Europe/Dublin:20251115T020000
DTSTAMP:20260420T203530
CREATED:20251103T002214Z
LAST-MODIFIED:20251103T004250Z
UID:10212-1763160300-1763172000@cubanatapasbar.co.uk
SUMMARY:DJ Ebo (Baila Reggaeton UK)
DESCRIPTION:
URL:https://cubanatapasbar.co.uk/events/event/dj-ebo-baila-reggaeton-uk-7/
LOCATION:Cubana Tapas Bar\, Cubana Tapas Bar\, 4 Leopold Square\, Sheffield\, S1 2JG\, United Kingdom
CATEGORIES:This week events
ATTACH;FMTTYPE=image/jpeg:https://cubanatapasbar.co.uk/events/wp-content/uploads/2019/02/dj-ebo.jpg
ORGANIZER;CN="Cubana Tapas Bar":MAILTO:info@cubanatapasbar.co.uk
END:VEVENT
BEGIN:VEVENT
DTSTART;TZID=Europe/Dublin:20251121T224500
DTEND;TZID=Europe/Dublin:20251122T020000
DTSTAMP:20260420T203530
CREATED:20251103T002225Z
LAST-MODIFIED:20251103T005131Z
UID:10213-1763765100-1763776800@cubanatapasbar.co.uk
SUMMARY:DJ William Soriano (Republica de El Salvador)
DESCRIPTION:
URL:https://cubanatapasbar.co.uk/events/event/dj-william-soriano-republica-de-el-salvador-5/
LOCATION:Cubana Tapas Bar\, Cubana Tapas Bar\, 4 Leopold Square\, Sheffield\, S1 2JG\, United Kingdom
CATEGORIES:This week events
ATTACH;FMTTYPE=image/jpeg:https://cubanatapasbar.co.uk/events/wp-content/uploads/2025/04/William-Soriano-dj.jpg
ORGANIZER;CN="Cubana Tapas Bar":MAILTO:info@cubanatapasbar.co.uk
END:VEVENT
BEGIN:VEVENT
DTSTART;TZID=Europe/Dublin:20251128T224500
DTEND;TZID=Europe/Dublin:20251129T020000
DTSTAMP:20260420T203530
CREATED:20251103T002226Z
LAST-MODIFIED:20251103T005751Z
UID:10214-1764369900-1764381600@cubanatapasbar.co.uk
SUMMARY:DJ Anna De Orte (Barcelona)
DESCRIPTION:VIVA REGGAETON – EVERY FRIDAY\nCUBANA COCKTAIL LOUNGE- DOWNSTAIRS from 10pm \nSheffield’s original Latino Club night… Latin music\, Salsa\, Samba\, Mambo\, Bachata. Special guest DJs EVERY WEEK
URL:https://cubanatapasbar.co.uk/events/event/dj-anna-de-orte-barcelona-73/
LOCATION:Cubana Tapas Bar\, Cubana Tapas Bar\, 4 Leopold Square\, Sheffield\, S1 2JG\, United Kingdom
CATEGORIES:This week events
ATTACH;FMTTYPE=image/jpeg:https://cubanatapasbar.co.uk/events/wp-content/uploads/2017/06/dj-anna.jpg
ORGANIZER;CN="Cubana Tapas Bar":MAILTO:info@cubanatapasbar.co.uk
END:VEVENT
END:VCALENDAR