BEGIN:VCALENDAR
VERSION:2.0
PRODID:-//Cubana Tapas Bar - ECPv6.7.0//NONSGML v1.0//EN
CALSCALE:GREGORIAN
METHOD:PUBLISH
X-ORIGINAL-URL:https://cubanatapasbar.co.uk/events
X-WR-CALDESC:Events for Cubana Tapas Bar
REFRESH-INTERVAL;VALUE=DURATION:PT1H
X-Robots-Tag:noindex
X-PUBLISHED-TTL:PT1H
BEGIN:VTIMEZONE
TZID:Europe/Dublin
BEGIN:STANDARD
TZOFFSETFROM:+0000
TZOFFSETTO:+0100
TZNAME:IST
DTSTART:20250330T010000
END:STANDARD
BEGIN:DAYLIGHT
TZOFFSETFROM:+0100
TZOFFSETTO:+0000
TZNAME:GMT
DTSTART:20251026T010000
END:DAYLIGHT
END:VTIMEZONE
BEGIN:VEVENT
DTSTART;TZID=Europe/Dublin:20250917T193000
DTEND;TZID=Europe/Dublin:20250917T213000
DTSTAMP:20260420T153842
CREATED:20250903T173407Z
LAST-MODIFIED:20250903T213611Z
UID:9912-1758137400-1758144600@cubanatapasbar.co.uk
SUMMARY:Andrew Clegg
DESCRIPTION:Andrew Clegg\nAndrew plays Spanish Flamenco capturing the soul and passion of the Andalucian gypsies – a fusion of evocative melodies and invigorating rhythms create a unique and exciting sound.\nFrom Blues and soul\, to swing and contemporary pop\, Jack has the ability and stage presence to provide a great night of musical entertainment. \n— \nWe are ready once again to provide you with a host of fabulous live music performances from the very many talented artists who have played here over recent times. \nWe would like to show our support to the amazing musicians who have been unable to work much and who have had a tough time of it lately by hosting as many gigs as possible. They too\, would love you to come down and see them perform. \nTo get back into the swing of things\, we will be mainly hosting solo artists and occasional duos. Get ready for plenty live Soul\, Funk\, Jazz\, Blues\, R&B\, pop and more! \nWhy not book a table for tapas and drinks and sit back and enjoy the laid back sultry rhythms and mellow vibes. \nWe cannot wait to get the rhythms flowing and finally get the show back on the road!
URL:https://cubanatapasbar.co.uk/events/event/andrew-clegg-62/
LOCATION:Cubana Tapas Bar\, Cubana Tapas Bar\, 4 Leopold Square\, Sheffield\, S1 2JG\, United Kingdom
CATEGORIES:Upcoming
ATTACH;FMTTYPE=image/jpeg:https://cubanatapasbar.co.uk/events/wp-content/uploads/2019/01/andrew-clegg.jpg
ORGANIZER;CN="Cubana Tapas Bar":MAILTO:info@cubanatapasbar.co.uk
END:VEVENT
BEGIN:VEVENT
DTSTART;TZID=Europe/Dublin:20250917T203000
DTEND;TZID=Europe/Dublin:20250917T230000
DTSTAMP:20260420T153842
CREATED:20250903T173421Z
LAST-MODIFIED:20250903T213735Z
UID:9913-1758141000-1758150000@cubanatapasbar.co.uk
SUMMARY:The Big Swing with Tessa Smith
DESCRIPTION:The Big Swing – every Wednesday in the DOWNSTAIRS LOUNGE BAR from 8:00pm\nFREE Swing Dance class for beginners \nTHE BIG SWING with TESSA SMITH \nLeeds Vocalist Tessa and her Applejacks are entertaining and captivating. With a strong Lindy Hop background Tessa knows how to play for dancers and does so regularly all over the UK. Their music choice has a variety of flavours and will stretch your dancing to its optimum.
URL:https://cubanatapasbar.co.uk/events/event/the-big-swing-with-tessa-smith-14/
LOCATION:Cubana Tapas Bar\, Cubana Tapas Bar\, 4 Leopold Square\, Sheffield\, S1 2JG\, United Kingdom
CATEGORIES:This week events
ATTACH;FMTTYPE=image/jpeg:https://cubanatapasbar.co.uk/events/wp-content/uploads/2018/11/Tessa-Smith.jpg
ORGANIZER;CN="Cubana Tapas Bar":MAILTO:info@cubanatapasbar.co.uk
END:VEVENT
END:VCALENDAR