BEGIN:VCALENDAR
VERSION:2.0
PRODID:-//Cubana Tapas Bar - ECPv6.7.0//NONSGML v1.0//EN
CALSCALE:GREGORIAN
METHOD:PUBLISH
X-ORIGINAL-URL:https://cubanatapasbar.co.uk/events
X-WR-CALDESC:Events for Cubana Tapas Bar
REFRESH-INTERVAL;VALUE=DURATION:PT1H
X-Robots-Tag:noindex
X-PUBLISHED-TTL:PT1H
BEGIN:VTIMEZONE
TZID:Europe/Dublin
BEGIN:STANDARD
TZOFFSETFROM:+0000
TZOFFSETTO:+0100
TZNAME:IST
DTSTART:20250330T010000
END:STANDARD
BEGIN:DAYLIGHT
TZOFFSETFROM:+0100
TZOFFSETTO:+0000
TZNAME:GMT
DTSTART:20251026T010000
END:DAYLIGHT
END:VTIMEZONE
BEGIN:VEVENT
DTSTART;TZID=Europe/Dublin:20251119T203000
DTEND;TZID=Europe/Dublin:20251119T230000
DTSTAMP:20260424T105626
CREATED:20251103T002041Z
LAST-MODIFIED:20251103T004627Z
UID:10189-1763584200-1763593200@cubanatapasbar.co.uk
SUMMARY:The Big Swing 13th Birthday Bash
DESCRIPTION:The Big Swing – every Wednesday in the DOWNSTAIRS LOUNGE BAR from 8:00pm\nFREE Swing Dance class for beginners \nTHE BIG SWING BIG SWING 13TH BIRTHDAY BASH \nAn amazing fourteen years of live music\, free dance classes and wholesome nights! Let’s celebrate in style! Join us for our biggest event of the year\, featuring a handpicked lineup of incredible musicians from across the Big Swing calendar\, all coming together for one special night. Expect live Jazz\, Swing\, DJs\, dancing\, and this year a spectacular heap of brass(!) to keep the party blazing. Dress sharp\, bring your best moves\, and we’ll see you on the floor. Whoop Whoop!
URL:https://cubanatapasbar.co.uk/events/event/the-big-swing-13th-birthday-bash/
LOCATION:Cubana Tapas Bar\, Cubana Tapas Bar\, 4 Leopold Square\, Sheffield\, S1 2JG\, United Kingdom
CATEGORIES:This week events
ORGANIZER;CN="Cubana Tapas Bar":MAILTO:info@cubanatapasbar.co.uk
END:VEVENT
END:VCALENDAR