BEGIN:VCALENDAR
VERSION:2.0
PRODID:-//Cubana Tapas Bar - ECPv6.7.0//NONSGML v1.0//EN
CALSCALE:GREGORIAN
METHOD:PUBLISH
X-WR-CALNAME:Cubana Tapas Bar
X-ORIGINAL-URL:https://cubanatapasbar.co.uk/events
X-WR-CALDESC:Events for Cubana Tapas Bar
REFRESH-INTERVAL;VALUE=DURATION:PT1H
X-Robots-Tag:noindex
X-PUBLISHED-TTL:PT1H
BEGIN:VTIMEZONE
TZID:Europe/Dublin
BEGIN:STANDARD
TZOFFSETFROM:+0000
TZOFFSETTO:+0100
TZNAME:IST
DTSTART:20250330T010000
END:STANDARD
BEGIN:DAYLIGHT
TZOFFSETFROM:+0100
TZOFFSETTO:+0000
TZNAME:GMT
DTSTART:20251026T010000
END:DAYLIGHT
END:VTIMEZONE
BEGIN:VEVENT
DTSTART;TZID=Europe/Dublin:20251029T203000
DTEND;TZID=Europe/Dublin:20251029T230000
DTSTAMP:20260422T111855
CREATED:20250930T150408Z
LAST-MODIFIED:20250930T152825Z
UID:10005-1761769800-1761778800@cubanatapasbar.co.uk
SUMMARY:The Big Swing with Danny Maddocks
DESCRIPTION:The Big Swing – every Wednesday in the DOWNSTAIRS LOUNGE BAR from 8:00pm\nFREE Swing Dance class for beginners \nTHE BIG SWING with DANNY MADDOCKS \nJoin us for a night of Gypsy Jazz with the heavy Swinging and highly accomplished guitarist Danny Maddocks! Starting his musical journey at 8\, Danny’s passion for jazz has taken him to prestigious venues like Birmingham Symphony Hall and Ronnie Scotts Jazz Club. This dynamic trio’s vintage vibes and Gypsy Jazz classics will keep your toes tapping all night long. Sizzling!
URL:https://cubanatapasbar.co.uk/events/event/the-big-swing-with-danny-maddocks-5/
LOCATION:Cubana Tapas Bar\, Cubana Tapas Bar\, 4 Leopold Square\, Sheffield\, S1 2JG\, United Kingdom
CATEGORIES:This week events
ATTACH;FMTTYPE=image/jpeg:https://cubanatapasbar.co.uk/events/wp-content/uploads/2024/08/Danny-Maddocks.jpeg
ORGANIZER;CN="Cubana Tapas Bar":MAILTO:info@cubanatapasbar.co.uk
END:VEVENT
END:VCALENDAR