BEGIN:VCALENDAR
VERSION:2.0
PRODID:-//Cubana Tapas Bar - ECPv6.7.0//NONSGML v1.0//EN
CALSCALE:GREGORIAN
METHOD:PUBLISH
X-ORIGINAL-URL:https://cubanatapasbar.co.uk/events
X-WR-CALDESC:Events for Cubana Tapas Bar
REFRESH-INTERVAL;VALUE=DURATION:PT1H
X-Robots-Tag:noindex
X-PUBLISHED-TTL:PT1H
BEGIN:VTIMEZONE
TZID:Europe/Dublin
BEGIN:STANDARD
TZOFFSETFROM:+0000
TZOFFSETTO:+0100
TZNAME:IST
DTSTART:20250330T010000
END:STANDARD
BEGIN:DAYLIGHT
TZOFFSETFROM:+0100
TZOFFSETTO:+0000
TZNAME:GMT
DTSTART:20251026T010000
END:DAYLIGHT
END:VTIMEZONE
BEGIN:VEVENT
DTSTART;TZID=Europe/Dublin:20250726T210000
DTEND;TZID=Europe/Dublin:20250727T020000
DTSTAMP:20260421T061437
CREATED:20250701T184102Z
LAST-MODIFIED:20250701T215357Z
UID:9613-1753563600-1753581600@cubanatapasbar.co.uk
SUMMARY:DJ Ebo (Fiesta Latina\,Leeds) with Armando Murillo (Congas)
DESCRIPTION:BRASILICA EVERY SATURDAY\nCUBANA COCKTAIL LOUNGE-DOWNSTAIRS from 9pm \nJoin us every Saturday for the perfect party mix up ofÊ Latin sounds. \nFrom Brazil to Cuba via the UK and beyond…
URL:https://cubanatapasbar.co.uk/events/event/dj-ebo-fiesta-latinaleeds-with-armando-murillo-congas-47/
LOCATION:Cubana Tapas Bar\, Cubana Tapas Bar\, 4 Leopold Square\, Sheffield\, S1 2JG\, United Kingdom
CATEGORIES:This week events
ATTACH;FMTTYPE=image/jpeg:https://cubanatapasbar.co.uk/events/wp-content/uploads/2019/02/dj-ebo.jpg
ORGANIZER;CN="Cubana Tapas Bar":MAILTO:info@cubanatapasbar.co.uk
END:VEVENT
BEGIN:VEVENT
DTSTART;TZID=Europe/Dublin:20250726T231500
DTEND;TZID=Europe/Dublin:20250727T011500
DTSTAMP:20260421T061437
CREATED:20250701T183349Z
LAST-MODIFIED:20250701T215429Z
UID:9599-1753571700-1753578900@cubanatapasbar.co.uk
SUMMARY:Dan Millson & Piero Tucci
DESCRIPTION:DAN MILLSON & PIERO TUCCI\nTalented singer-songwriter DAN MILLSON (guitar & vocals) performs together with highly talented and accomplished saxophonist PIERO TUCCI. \nThis amazing duo perform a unique mixture of popular covers with pop/rock and folk influences. From Bill Withers to The Police and Bob Marley to The Beatles\, Oasis and Coldplay\n— \nWe are ready once again to provide you with a host of fabulous live music performances from the very many talented artists who have played here over recent times. \nWe would like to show our support to the amazing musicians who have been unable to work much and who have had a tough time of it lately by hosting as many gigs as possible. They too\, would love you to come down and see them perform. \nTo get back into the swing of things\, we will be mainly hosting solo artists and occasional duos. Get ready for plenty live Soul\, Funk\, Jazz\, Blues\, R&B\, pop and more! \nWhy not book a table for tapas and drinks and sit back and enjoy the laid back sultry rhythms and mellow vibes. \nWe cannot wait to get the rhythms flowing and finally get the show back on the road!
URL:https://cubanatapasbar.co.uk/events/event/dan-millson-piero-tucci-41/
LOCATION:Cubana Tapas Bar\, Cubana Tapas Bar\, 4 Leopold Square\, Sheffield\, S1 2JG\, United Kingdom
CATEGORIES:This week events
ATTACH;FMTTYPE=image/jpeg:https://cubanatapasbar.co.uk/events/wp-content/uploads/2023/03/Dan-Milson.jpeg
ORGANIZER;CN="Cubana Tapas Bar":MAILTO:info@cubanatapasbar.co.uk
END:VEVENT
END:VCALENDAR