BEGIN:VCALENDAR
VERSION:2.0
PRODID:-//Cubana Tapas Bar - ECPv6.7.0//NONSGML v1.0//EN
CALSCALE:GREGORIAN
METHOD:PUBLISH
X-ORIGINAL-URL:https://cubanatapasbar.co.uk/events
X-WR-CALDESC:Events for Cubana Tapas Bar
REFRESH-INTERVAL;VALUE=DURATION:PT1H
X-Robots-Tag:noindex
X-PUBLISHED-TTL:PT1H
BEGIN:VTIMEZONE
TZID:Europe/Dublin
BEGIN:STANDARD
TZOFFSETFROM:+0000
TZOFFSETTO:+0100
TZNAME:IST
DTSTART:20250330T010000
END:STANDARD
BEGIN:DAYLIGHT
TZOFFSETFROM:+0100
TZOFFSETTO:+0000
TZNAME:GMT
DTSTART:20251026T010000
END:DAYLIGHT
END:VTIMEZONE
BEGIN:VEVENT
DTSTART;TZID=Europe/Dublin:20250604T203000
DTEND;TZID=Europe/Dublin:20250604T230000
DTSTAMP:20260423T180858
CREATED:20250603T204554Z
LAST-MODIFIED:20250603T212122Z
UID:9422-1749069000-1749078000@cubanatapasbar.co.uk
SUMMARY:The Big Swing with Louis Louis Louis
DESCRIPTION:The Big Swing – every Wednesday in the DOWNSTAIRS LOUNGE BAR from 8:00pm\nFREE Swing Dance class for beginners \nTHE BIG SWING with LOUIS LOUIS LOUIS  \nPlaying classic Swing\, Jump-Jive\, Ska and red-hot Rhythm & Blues\, Louis Louis Louis are guaranteed to get your feet tapping and your legs flapping! Thumping slap bass\, honking saxophone\, raucous four-part vocal harmonies and a driving piano boogie. Playing the hits of Louis Prima\, Ray Charles\, Louis Armstrong\, Nina Simone\, Toots & The Maytals\, Joe Turner\, Louis Jordan and more!
URL:https://cubanatapasbar.co.uk/events/event/the-big-swing-with-louis-louis-louis-13/
LOCATION:Cubana Tapas Bar\, Cubana Tapas Bar\, 4 Leopold Square\, Sheffield\, S1 2JG\, United Kingdom
CATEGORIES:This week events
ATTACH;FMTTYPE=image/jpeg:https://cubanatapasbar.co.uk/events/wp-content/uploads/2018/11/Louis-Louis-Louis.jpg
ORGANIZER;CN="Cubana Tapas Bar":MAILTO:info@cubanatapasbar.co.uk
END:VEVENT
END:VCALENDAR