BEGIN:VCALENDAR
VERSION:2.0
PRODID:-//Cubana Tapas Bar - ECPv6.7.0//NONSGML v1.0//EN
CALSCALE:GREGORIAN
METHOD:PUBLISH
X-WR-CALNAME:Cubana Tapas Bar
X-ORIGINAL-URL:https://cubanatapasbar.co.uk/events
X-WR-CALDESC:Events for Cubana Tapas Bar
REFRESH-INTERVAL;VALUE=DURATION:PT1H
X-Robots-Tag:noindex
X-PUBLISHED-TTL:PT1H
BEGIN:VTIMEZONE
TZID:Europe/Dublin
BEGIN:STANDARD
TZOFFSETFROM:+0000
TZOFFSETTO:+0100
TZNAME:IST
DTSTART:20250330T010000
END:STANDARD
BEGIN:DAYLIGHT
TZOFFSETFROM:+0100
TZOFFSETTO:+0000
TZNAME:GMT
DTSTART:20251026T010000
END:DAYLIGHT
END:VTIMEZONE
BEGIN:VEVENT
DTSTART;TZID=Europe/Dublin:20250521T203000
DTEND;TZID=Europe/Dublin:20250521T230000
DTSTAMP:20260426T062213
CREATED:20250429T213449Z
LAST-MODIFIED:20250430T154028Z
UID:9297-1747859400-1747868400@cubanatapasbar.co.uk
SUMMARY:The Big Swing with Danny Lowndes Hot Club
DESCRIPTION:The Big Swing – every Wednesday in the DOWNSTAIRS LOUNGE BAR from 8:00pm\nFREE Swing Dance class for beginners \nTHE BIG SWING with DANNY LOWNDES HOT CLUB \nLed by our good friend\, Sheffield’s Danny Lowndes\, this ensemble delivers Gypsy Jazz with style and flair. Featuring an all-star line up with Bryan Day (Guitar)\, Emily Chaplais (Violin)\, Mike Fleming (Bass)\, and Chris Lloyd (Accordion). Fresh off the release of his debut album Demonstration No. 1\, Danny blends Django-inspired swing with original compositions\, creating a vibrant\, authentic sound. Expect top-tier musicianship from a group with serious pedigree and years of experience lighting up stages across the UK and Europe.
URL:https://cubanatapasbar.co.uk/events/event/the-big-swing-with-danny-lowndes-hot-club/
LOCATION:Cubana Tapas Bar\, Cubana Tapas Bar\, 4 Leopold Square\, Sheffield\, S1 2JG\, United Kingdom
CATEGORIES:This week events
ATTACH;FMTTYPE=image/png:https://cubanatapasbar.co.uk/events/wp-content/uploads/2025/04/Danny-Lowndes.png
ORGANIZER;CN="Cubana Tapas Bar":MAILTO:info@cubanatapasbar.co.uk
END:VEVENT
END:VCALENDAR