BEGIN:VCALENDAR
VERSION:2.0
PRODID:-//Cubana Tapas Bar - ECPv6.7.0//NONSGML v1.0//EN
CALSCALE:GREGORIAN
METHOD:PUBLISH
X-WR-CALNAME:Cubana Tapas Bar
X-ORIGINAL-URL:https://cubanatapasbar.co.uk/events
X-WR-CALDESC:Events for Cubana Tapas Bar
REFRESH-INTERVAL;VALUE=DURATION:PT1H
X-Robots-Tag:noindex
X-PUBLISHED-TTL:PT1H
BEGIN:VTIMEZONE
TZID:Europe/Dublin
BEGIN:STANDARD
TZOFFSETFROM:+0000
TZOFFSETTO:+0100
TZNAME:IST
DTSTART:20250330T010000
END:STANDARD
BEGIN:DAYLIGHT
TZOFFSETFROM:+0100
TZOFFSETTO:+0000
TZNAME:GMT
DTSTART:20251026T010000
END:DAYLIGHT
END:VTIMEZONE
BEGIN:VEVENT
DTSTART;TZID=Europe/Dublin:20250509T204500
DTEND;TZID=Europe/Dublin:20250509T224500
DTSTAMP:20260424T004215
CREATED:20250429T212727Z
LAST-MODIFIED:20250429T220924Z
UID:9277-1746823500-1746830700@cubanatapasbar.co.uk
SUMMARY:Billie Jane & The Boys
DESCRIPTION:BILLIE JANE & THE BOYS \nGet ready for an unforgettable night of Soul\, Funk and Pop classics\, fused with modern tunes that will have you moving all night long! Presenting the sensational sounds of Billie Jane and her band. Grab your friends and join us for a night that will have you smiling\, singing and dancing. \n— \nWe are ready once again to provide you with a host of fabulous live music performances from the very many talented artists who have played here over recent times. \nWe would like to show our support to the amazing musicians who have been unable to work much and who have had a tough time of it lately by hosting as many gigs as possible. They too\, would love you to come down and see them perform. \nTo get back into the swing of things\, we will be mainly hosting solo artists and occasional duos. Get ready for plenty live Soul\, Funk\, Jazz\, Blues\, R&B\, pop and more! \nWhy not book a table for tapas and drinks and sit back and enjoy the laid back sultry rhythms and mellow vibes. \nWe cannot wait to get the rhythms flowing and finally get the show back on the road!
URL:https://cubanatapasbar.co.uk/events/event/billie-jane-the-boys-3/
LOCATION:Cubana Tapas Bar\, Cubana Tapas Bar\, 4 Leopold Square\, Sheffield\, S1 2JG\, United Kingdom
CATEGORIES:This week events
ATTACH;FMTTYPE=image/jpeg:https://cubanatapasbar.co.uk/events/wp-content/uploads/2023/07/Billie-Jane-and-the-boys.jpeg
ORGANIZER;CN="Cubana Tapas Bar":MAILTO:info@cubanatapasbar.co.uk
END:VEVENT
BEGIN:VEVENT
DTSTART;TZID=Europe/Dublin:20250509T223000
DTEND;TZID=Europe/Dublin:20250510T020000
DTSTAMP:20260424T004215
CREATED:20250429T214320Z
LAST-MODIFIED:20250429T220943Z
UID:9319-1746829800-1746842400@cubanatapasbar.co.uk
SUMMARY:DJ Ebo (Fiesta Latina\,Leeds)
DESCRIPTION:VIVA REGGAETON – EVERY FRIDAY\nCUBANA COCKTAIL LOUNGE- DOWNSTAIRS from 10pm \nSheffields original Latino Club night… Latin music\, Salsa\, Samba\, Mambo\, Bachata. Special guest DJs EVERY WEEK
URL:https://cubanatapasbar.co.uk/events/event/dj-ebo-fiesta-latinaleeds-44/
LOCATION:Cubana Tapas Bar\, Cubana Tapas Bar\, 4 Leopold Square\, Sheffield\, S1 2JG\, United Kingdom
CATEGORIES:This week events
ATTACH;FMTTYPE=image/jpeg:https://cubanatapasbar.co.uk/events/wp-content/uploads/2019/02/dj-ebo.jpg
ORGANIZER;CN="Cubana Tapas Bar":MAILTO:info@cubanatapasbar.co.uk
END:VEVENT
END:VCALENDAR