BEGIN:VCALENDAR
VERSION:2.0
PRODID:-//Cubana Tapas Bar - ECPv6.7.0//NONSGML v1.0//EN
CALSCALE:GREGORIAN
METHOD:PUBLISH
X-ORIGINAL-URL:https://cubanatapasbar.co.uk/events
X-WR-CALDESC:Events for Cubana Tapas Bar
REFRESH-INTERVAL;VALUE=DURATION:PT1H
X-Robots-Tag:noindex
X-PUBLISHED-TTL:PT1H
BEGIN:VTIMEZONE
TZID:Europe/Dublin
BEGIN:STANDARD
TZOFFSETFROM:+0000
TZOFFSETTO:+0100
TZNAME:IST
DTSTART:20250330T010000
END:STANDARD
BEGIN:DAYLIGHT
TZOFFSETFROM:+0100
TZOFFSETTO:+0000
TZNAME:GMT
DTSTART:20251026T010000
END:DAYLIGHT
END:VTIMEZONE
BEGIN:VEVENT
DTSTART;TZID=Europe/Dublin:20250402T203000
DTEND;TZID=Europe/Dublin:20250402T230000
DTSTAMP:20260425T205431
CREATED:20250403T063142Z
LAST-MODIFIED:20250403T063142Z
UID:9119-1743625800-1743634800@cubanatapasbar.co.uk
SUMMARY:The Big Swing with Lewis & Lowdnes
DESCRIPTION:The Big Swing – every Wednesday in the DOWNSTAIRS LOUNGE BAR from 8:00pm\nFREE Swing Dance class for beginners \nTHE BIG SWING with LEWIS & LOWDNES \nSheffield’s Danny Lowndes teams up with Nottingham’s Elliot Lewis to form a new trio exploring the sound of Gypsy Jazz. With years of experience between them\, they deliver rich melodies\, seamless guitar work and a deep understanding of the Django tradition. Expect sizzling Hot Club sounds delivered with authenticity and skill\, tailored to our Lindy Hop dancing crowd!
URL:https://cubanatapasbar.co.uk/events/event/the-big-swing-with-lewis-lowdnes/
LOCATION:Cubana Tapas Bar\, Cubana Tapas Bar\, 4 Leopold Square\, Sheffield\, S1 2JG\, United Kingdom
CATEGORIES:This week events
ORGANIZER;CN="Cubana Tapas Bar":MAILTO:info@cubanatapasbar.co.uk
END:VEVENT
END:VCALENDAR