BEGIN:VCALENDAR
VERSION:2.0
PRODID:-//Cubana Tapas Bar - ECPv6.7.0//NONSGML v1.0//EN
CALSCALE:GREGORIAN
METHOD:PUBLISH
X-WR-CALNAME:Cubana Tapas Bar
X-ORIGINAL-URL:https://cubanatapasbar.co.uk/events
X-WR-CALDESC:Events for Cubana Tapas Bar
REFRESH-INTERVAL;VALUE=DURATION:PT1H
X-Robots-Tag:noindex
X-PUBLISHED-TTL:PT1H
BEGIN:VTIMEZONE
TZID:Europe/Dublin
BEGIN:STANDARD
TZOFFSETFROM:+0000
TZOFFSETTO:+0100
TZNAME:IST
DTSTART:20260329T010000
END:STANDARD
BEGIN:DAYLIGHT
TZOFFSETFROM:+0100
TZOFFSETTO:+0000
TZNAME:GMT
DTSTART:20261025T010000
END:DAYLIGHT
END:VTIMEZONE
BEGIN:VEVENT
DTSTART;TZID=Europe/Dublin:20260321T133000
DTEND;TZID=Europe/Dublin:20260321T160000
DTSTAMP:20260422T123508
CREATED:20260302T215851Z
LAST-MODIFIED:20260302T222939Z
UID:10748-1774099800-1774108800@cubanatapasbar.co.uk
SUMMARY:Katie Stewart
DESCRIPTION:Bottomless Brunch – Katie Stewart\nBluesy anecdotes with a sprinkling of soulful riffs and beautiful vocals\n– \nCubana Bottomless Brunch Every Saturday and Sunday Morning and Afternoon \nAt Cubana\, it is so much more than just the fabulous drinks on offer!! \nWe wanted to raise the bar with our unique BB offering and provide a package which includes a substantial and wide selection of top quality food. Our talented chefs have put together a delicious combination of Spanish and Latin brunch dishes for you all to enjoy alongside the usual on tap supply of Prosecco\, Sangria\, cocktails and more. \nFor more info: http://cubanatapasbar.co.uk/bottomless-brunch.php
URL:https://cubanatapasbar.co.uk/events/event/katie-stewart-243/
LOCATION:Cubana Tapas Bar\, Cubana Tapas Bar\, 4 Leopold Square\, Sheffield\, S1 2JG\, United Kingdom
CATEGORIES:Upcoming
ATTACH;FMTTYPE=image/jpeg:https://cubanatapasbar.co.uk/events/wp-content/uploads/2019/01/Katie-Stewart.jpg
ORGANIZER;CN="Cubana Tapas Bar":MAILTO:info@cubanatapasbar.co.uk
END:VEVENT
BEGIN:VEVENT
DTSTART;TZID=Europe/Dublin:20260321T210000
DTEND;TZID=Europe/Dublin:20260321T230000
DTSTAMP:20260422T123508
CREATED:20260302T215852Z
LAST-MODIFIED:20260302T223003Z
UID:10749-1774126800-1774134000@cubanatapasbar.co.uk
SUMMARY:Dan Millson
DESCRIPTION:Talented singer-songwriter Dan Millson (guitar & vocals) performs a unique mixture of popular covers with pop/rock and folk influences. From Bill Withers to The Police\, Bob Marley to The Beatles\, and Coldplay to Oasis
URL:https://cubanatapasbar.co.uk/events/event/dan-millson-196/
LOCATION:Cubana Tapas Bar\, Cubana Tapas Bar\, 4 Leopold Square\, Sheffield\, S1 2JG\, United Kingdom
CATEGORIES:Upcoming
ATTACH;FMTTYPE=image/jpeg:https://cubanatapasbar.co.uk/events/wp-content/uploads/2023/03/Dan-Milson.jpeg
ORGANIZER;CN="Cubana Tapas Bar":MAILTO:info@cubanatapasbar.co.uk
END:VEVENT
BEGIN:VEVENT
DTSTART;TZID=Europe/Dublin:20260321T231500
DTEND;TZID=Europe/Dublin:20260322T011500
DTSTAMP:20260422T123508
CREATED:20260302T220048Z
LAST-MODIFIED:20260302T223052Z
UID:10750-1774134900-1774142100@cubanatapasbar.co.uk
SUMMARY:Billie Johnson
DESCRIPTION:BILLIE JOHNSON\nBillie’s gorgeous voice and bubbly energy infuses your favourite Pop\, RnB and Funk bangers with passion and soul. She’ll get you moving whether you like it or not
URL:https://cubanatapasbar.co.uk/events/event/billie-johnson-53/
LOCATION:Cubana Tapas Bar\, Cubana Tapas Bar\, 4 Leopold Square\, Sheffield\, S1 2JG\, United Kingdom
CATEGORIES:Upcoming
ATTACH;FMTTYPE=image/jpeg:https://cubanatapasbar.co.uk/events/wp-content/uploads/2022/09/Billie-Johnson--scaled.jpeg
ORGANIZER;CN="Cubana Tapas Bar":MAILTO:info@cubanatapasbar.co.uk
END:VEVENT
END:VCALENDAR