BEGIN:VCALENDAR
VERSION:2.0
PRODID:-//Cubana Tapas Bar - ECPv6.7.0//NONSGML v1.0//EN
CALSCALE:GREGORIAN
METHOD:PUBLISH
X-ORIGINAL-URL:https://cubanatapasbar.co.uk/events
X-WR-CALDESC:Events for Cubana Tapas Bar
REFRESH-INTERVAL;VALUE=DURATION:PT1H
X-Robots-Tag:noindex
X-PUBLISHED-TTL:PT1H
BEGIN:VTIMEZONE
TZID:Europe/Dublin
BEGIN:STANDARD
TZOFFSETFROM:+0000
TZOFFSETTO:+0100
TZNAME:IST
DTSTART:20250330T010000
END:STANDARD
BEGIN:DAYLIGHT
TZOFFSETFROM:+0100
TZOFFSETTO:+0000
TZNAME:GMT
DTSTART:20251026T010000
END:DAYLIGHT
END:VTIMEZONE
BEGIN:VEVENT
DTSTART;TZID=Europe/Dublin:20251105T190000
DTEND;TZID=Europe/Dublin:20251105T210000
DTSTAMP:20260420T185741
CREATED:20251103T001842Z
LAST-MODIFIED:20251103T002946Z
UID:10161-1762369200-1762376400@cubanatapasbar.co.uk
SUMMARY:Andrew Clegg
DESCRIPTION:Andrew Clegg\nAndrew plays Spanish Flamenco capturing the soul and passion of the Andalucian gypsies – a fusion of evocative melodies and invigorating rhythms create a unique and exciting sound.\nFrom Blues and soul\, to swing and contemporary pop\, Jack has the ability and stage presence to provide a great night of musical entertainment. \n— \nWe are ready once again to provide you with a host of fabulous live music performances from the very many talented artists who have played here over recent times. \nWe would like to show our support to the amazing musicians who have been unable to work much and who have had a tough time of it lately by hosting as many gigs as possible. They too\, would love you to come down and see them perform. \nTo get back into the swing of things\, we will be mainly hosting solo artists and occasional duos. Get ready for plenty live Soul\, Funk\, Jazz\, Blues\, R&B\, pop and more! \nWhy not book a table for tapas and drinks and sit back and enjoy the laid back sultry rhythms and mellow vibes. \nWe cannot wait to get the rhythms flowing and finally get the show back on the road!
URL:https://cubanatapasbar.co.uk/events/event/andrew-clegg-64/
LOCATION:Cubana Tapas Bar\, Cubana Tapas Bar\, 4 Leopold Square\, Sheffield\, S1 2JG\, United Kingdom
CATEGORIES:Upcoming
ATTACH;FMTTYPE=image/jpeg:https://cubanatapasbar.co.uk/events/wp-content/uploads/2019/01/andrew-clegg.jpg
ORGANIZER;CN="Cubana Tapas Bar":MAILTO:info@cubanatapasbar.co.uk
END:VEVENT
BEGIN:VEVENT
DTSTART;TZID=Europe/Dublin:20251105T203000
DTEND;TZID=Europe/Dublin:20251105T230000
DTSTAMP:20260420T185741
CREATED:20251103T001855Z
LAST-MODIFIED:20251103T003014Z
UID:10165-1762374600-1762383600@cubanatapasbar.co.uk
SUMMARY:The Big Swing with Hot Flamingo
DESCRIPTION:The Big Swing – every Wednesday in the DOWNSTAIRS LOUNGE BAR from 8:00pm\nFREE Swing Dance class for beginners \nTHE BIG SWING with HOT FLAMINGO \nGet ready for a night of sizzling Django Reinhardt-inspired hot swing with Hot Flamingo! Led by the captivating vocals of Molly Amour\, this dynamic group features the driving rockabilly and Gypsy guitars of JD England and Antoine Gourdon\, with Charlie Fothergill on clarinet and Kate Whittaker on double bass. Their vibrant energy and swingin’ tunes will keep you dancing and tapping your toes all night long. Expect nothing less than a night of hot rhythms and dazzling performances!
URL:https://cubanatapasbar.co.uk/events/event/the-big-swing-with-hot-flamingo-3/
LOCATION:Cubana Tapas Bar\, Cubana Tapas Bar\, 4 Leopold Square\, Sheffield\, S1 2JG\, United Kingdom
CATEGORIES:This week events
ATTACH;FMTTYPE=image/jpeg:https://cubanatapasbar.co.uk/events/wp-content/uploads/2024/08/Hot-Flamingo.jpg
ORGANIZER;CN="Cubana Tapas Bar":MAILTO:info@cubanatapasbar.co.uk
END:VEVENT
END:VCALENDAR