BEGIN:VCALENDAR
VERSION:2.0
PRODID:-//Cubana Tapas Bar - ECPv6.7.0//NONSGML v1.0//EN
CALSCALE:GREGORIAN
METHOD:PUBLISH
X-WR-CALNAME:Cubana Tapas Bar
X-ORIGINAL-URL:https://cubanatapasbar.co.uk/events
X-WR-CALDESC:Events for Cubana Tapas Bar
REFRESH-INTERVAL;VALUE=DURATION:PT1H
X-Robots-Tag:noindex
X-PUBLISHED-TTL:PT1H
BEGIN:VTIMEZONE
TZID:Europe/Dublin
BEGIN:STANDARD
TZOFFSETFROM:+0000
TZOFFSETTO:+0100
TZNAME:IST
DTSTART:20250330T010000
END:STANDARD
BEGIN:DAYLIGHT
TZOFFSETFROM:+0100
TZOFFSETTO:+0000
TZNAME:GMT
DTSTART:20251026T010000
END:DAYLIGHT
END:VTIMEZONE
BEGIN:VEVENT
DTSTART;TZID=Europe/Dublin:20251031T181500
DTEND;TZID=Europe/Dublin:20251031T201500
DTSTAMP:20260421T010042
CREATED:20251001T150752Z
LAST-MODIFIED:20251001T162912Z
UID:10072-1761934500-1761941700@cubanatapasbar.co.uk
SUMMARY:Jack Harper
DESCRIPTION:JACK HARPER Jack T Harper – one of the top blues singers in the country to an all-round musical entertainer with an astonishing\, eclectic repertoire. From Blues and Soul to Swing and contemporary pop\, Jack has the ability and stage presence to provide a great night of musical entertainment)\n— \nJoin us at Cubana\, Sheffield’s premier live music venue located in the heart of Sheffield City Center. Experience the enchantment of live music every single night at Cubana Tapas Bar and Restaurant. \nOur resident musicians are ready to captivate you with their exceptional talent and soulful performances. Whether you’re seeking a soothing evening of smooth\, easy listening vibes or a dynamic fusion of upbeat popular classics\, Cubana has it all. Immerse yourself in a mesmerizing blend of Soul\, Funk\, Jazz\, Blues\, R&B\, Pop\, and more! \nOur stage is set to showcase the finest local and touring artists\, bringing you an unparalleled live music experience. Discover the musical talents that grace Cubana this month by exploring our carefully curated listings below. Each performance promises to be a unique and unforgettable event. \nWhile you enjoy the incredible live music\, treat yourself to the delightful flavors of our tapas and drinks. Book a table and indulge in our delectable culinary offerings while you soak in the sultry rhythms and mellow vibes that fill the air. \nAt Cubana\, we are committed to supporting the incredible musicians who have faced challenging times recently. By hosting an abundance of gigs\, we aim to provide them with the platform they deserve while delivering exceptional entertainment to our cherished audience. Join us in celebrating the resurgence of live music and let the rhythms flow once again! \nDon’t miss out on the ultimate live music experience in Sheffield. Visit Cubana Tapas Bar and Restaurant today and immerse yourself in the magic of live music that will leave you craving for more. \nCubana Tapas Bar\n4 Leopold Sq\,\nSheffield City Center\,\nSheffield\,\nS1 2JG \nhttps://goo.gl/maps/keWiVa2rsZr8Kdbn7
URL:https://cubanatapasbar.co.uk/events/event/jack-harper-98/
LOCATION:Cubana Tapas Bar\, Cubana Tapas Bar\, 4 Leopold Square\, Sheffield\, S1 2JG\, United Kingdom
CATEGORIES:This week events
ATTACH;FMTTYPE=image/jpeg:https://cubanatapasbar.co.uk/events/wp-content/uploads/2020/10/JackHarper-2020.jpeg
ORGANIZER;CN="Cubana Tapas Bar":MAILTO:info@cubanatapasbar.co.uk
END:VEVENT
BEGIN:VEVENT
DTSTART;TZID=Europe/Dublin:20251031T193000
DTEND;TZID=Europe/Dublin:20251031T213000
DTSTAMP:20260421T010042
CREATED:20251001T150805Z
LAST-MODIFIED:20251001T162938Z
UID:10074-1761939000-1761946200@cubanatapasbar.co.uk
SUMMARY:Loretta Mercurio
DESCRIPTION:LORETTA MERCURIO\nExperience the unforgettable voice of Loretta Mercurio – where timeless Motown classics meet contemporary soul and acoustic pop. With rich\, soulful tones and heartfelt delivery\, Loretta brings every performance to life\, captivating audiences with emotion\, elegance\, and charm. Discover the magic of modern soul with a vintage twist in every note
URL:https://cubanatapasbar.co.uk/events/event/loretta-mercurio-4/
LOCATION:Cubana Tapas Bar\, Cubana Tapas Bar\, 4 Leopold Square\, Sheffield\, S1 2JG\, United Kingdom
CATEGORIES:Upcoming
ATTACH;FMTTYPE=image/jpeg:https://cubanatapasbar.co.uk/events/wp-content/uploads/2025/04/Loretta-Mercurio.jpeg
ORGANIZER;CN="Cubana Tapas Bar":MAILTO:info@cubanatapasbar.co.uk
END:VEVENT
BEGIN:VEVENT
DTSTART;TZID=Europe/Dublin:20251031T204500
DTEND;TZID=Europe/Dublin:20251031T224500
DTSTAMP:20260421T010042
CREATED:20251001T150804Z
LAST-MODIFIED:20251009T200020Z
UID:10073-1761943500-1761950700@cubanatapasbar.co.uk
SUMMARY:Cubana Allstars - Day of the Dead Fiesta
DESCRIPTION:CUBANA ALLSTARS – DAY OF THE DEAD FIESTA\nTo celebrate Cubana’s Halloween & Day of the Dead fiesta\, we’re bringing together a collaboration of the very many fine musicians who have played at Cubana over recent times for what promises to be a spectacular show. \nMade up of Montuno members as the backing band\, this fabulous 10-piece outfit entertain with sublime guest singers and Cubana favourites through the night. The Cubana All Stars provide the very best in Funk\, Soul\, Swing\, and Latin Jazz – guaranteed floor fillers to get the whole joint dancing for this one-off Halloween special not be missed! \n 
URL:https://cubanatapasbar.co.uk/events/event/cubana-allstars-day-of-the-dead-fiesta/
LOCATION:Cubana Tapas Bar\, Cubana Tapas Bar\, 4 Leopold Square\, Sheffield\, S1 2JG\, United Kingdom
CATEGORIES:This week events
ATTACH;FMTTYPE=image/jpeg:https://cubanatapasbar.co.uk/events/wp-content/uploads/2021/12/all-stars.jpg
ORGANIZER;CN="Cubana Tapas Bar":MAILTO:info@cubanatapasbar.co.uk
END:VEVENT
BEGIN:VEVENT
DTSTART;TZID=Europe/Dublin:20251031T213000
DTEND;TZID=Europe/Dublin:20251031T233000
DTSTAMP:20260421T010042
CREATED:20251001T150806Z
LAST-MODIFIED:20251001T163037Z
UID:10075-1761946200-1761953400@cubanatapasbar.co.uk
SUMMARY:Paul Smith
DESCRIPTION:Paul Smith\nLive saxophone – Paul’s brings his cool unique vibe playing favourites. \n— \nJoin us at Cubana\, Sheffield’s premier live music venue located in the heart of Sheffield City Center. Experience the enchantment of live music every single night at Cubana Tapas Bar and Restaurant. \nOur resident musicians are ready to captivate you with their exceptional talent and soulful performances. Whether you’re seeking a soothing evening of smooth\, easy listening vibes or a dynamic fusion of upbeat popular classics\, Cubana has it all. Immerse yourself in a mesmerizing blend of Soul\, Funk\, Jazz\, Blues\, R&B\, Pop\, and more! \nOur stage is set to showcase the finest local and touring artists\, bringing you an unparalleled live music experience. Discover the musical talents that grace Cubana this month by exploring our carefully curated listings below. Each performance promises to be a unique and unforgettable event. \nWhile you enjoy the incredible live music\, treat yourself to the delightful flavors of our tapas and drinks. Book a table and indulge in our delectable culinary offerings while you soak in the sultry rhythms and mellow vibes that fill the air. \nAt Cubana\, we are committed to supporting the incredible musicians who have faced challenging times recently. By hosting an abundance of gigs\, we aim to provide them with the platform they deserve while delivering exceptional entertainment to our cherished audience. Join us in celebrating the resurgence of live music and let the rhythms flow once again! \nDon’t miss out on the ultimate live music experience in Sheffield. Visit Cubana Tapas Bar and Restaurant today and immerse yourself in the magic of live music that will leave you craving for more. \nCubana Tapas Bar\n4 Leopold Sq\,\nSheffield City Center\,\nSheffield\,\nS1 2JG \nhttps://goo.gl/maps/keWiVa2rsZr8Kdbn7
URL:https://cubanatapasbar.co.uk/events/event/paul-smith-177/
LOCATION:Cubana Tapas Bar\, Cubana Tapas Bar\, 4 Leopold Square\, Sheffield\, S1 2JG\, United Kingdom
CATEGORIES:Upcoming
ATTACH;FMTTYPE=image/jpeg:https://cubanatapasbar.co.uk/events/wp-content/uploads/2019/06/PaulSmithpic.jpeg
ORGANIZER;CN="Cubana Tapas Bar":MAILTO:info@cubanatapasbar.co.uk
END:VEVENT
BEGIN:VEVENT
DTSTART;TZID=Europe/Dublin:20251031T224500
DTEND;TZID=Europe/Dublin:20251101T020000
DTSTAMP:20260421T010042
CREATED:20251001T150821Z
LAST-MODIFIED:20251001T163054Z
UID:10080-1761950700-1761962400@cubanatapasbar.co.uk
SUMMARY:DJ Ebo (Baila Reggaeton UK)
DESCRIPTION:
URL:https://cubanatapasbar.co.uk/events/event/dj-ebo-baila-reggaeton-uk-4/
LOCATION:Cubana Tapas Bar\, Cubana Tapas Bar\, 4 Leopold Square\, Sheffield\, S1 2JG\, United Kingdom
CATEGORIES:This week events
ATTACH;FMTTYPE=image/jpeg:https://cubanatapasbar.co.uk/events/wp-content/uploads/2019/02/dj-ebo.jpg
ORGANIZER;CN="Cubana Tapas Bar":MAILTO:info@cubanatapasbar.co.uk
END:VEVENT
END:VCALENDAR