BEGIN:VCALENDAR
VERSION:2.0
PRODID:-//Cubana Tapas Bar - ECPv6.7.0//NONSGML v1.0//EN
CALSCALE:GREGORIAN
METHOD:PUBLISH
X-WR-CALNAME:Cubana Tapas Bar
X-ORIGINAL-URL:https://cubanatapasbar.co.uk/events
X-WR-CALDESC:Events for Cubana Tapas Bar
REFRESH-INTERVAL;VALUE=DURATION:PT1H
X-Robots-Tag:noindex
X-PUBLISHED-TTL:PT1H
BEGIN:VTIMEZONE
TZID:Europe/Dublin
BEGIN:STANDARD
TZOFFSETFROM:+0000
TZOFFSETTO:+0100
TZNAME:IST
DTSTART:20250330T010000
END:STANDARD
BEGIN:DAYLIGHT
TZOFFSETFROM:+0100
TZOFFSETTO:+0000
TZNAME:GMT
DTSTART:20251026T010000
END:DAYLIGHT
END:VTIMEZONE
BEGIN:VEVENT
DTSTART;TZID=Europe/Dublin:20251017T181500
DTEND;TZID=Europe/Dublin:20251017T201500
DTSTAMP:20260422T152811
CREATED:20251001T150619Z
LAST-MODIFIED:20251001T161054Z
UID:10050-1760724900-1760732100@cubanatapasbar.co.uk
SUMMARY:Oscar Wood
DESCRIPTION:OSCAR WOOD\nOscar performs at Cubana and takes you all the way to the 1950’s and back again with a varied selection of hits throughout the decades – what an amazing voice! Move aside Michael Bublé
URL:https://cubanatapasbar.co.uk/events/event/oscar-wood-109/
LOCATION:Cubana Tapas Bar\, Cubana Tapas Bar\, 4 Leopold Square\, Sheffield\, S1 2JG\, United Kingdom
CATEGORIES:This week events
ATTACH;FMTTYPE=image/jpeg:https://cubanatapasbar.co.uk/events/wp-content/uploads/2022/09/Oscar-Wood.jpeg
ORGANIZER;CN="Cubana Tapas Bar":MAILTO:info@cubanatapasbar.co.uk
END:VEVENT
BEGIN:VEVENT
DTSTART;TZID=Europe/Dublin:20251017T200000
DTEND;TZID=Europe/Dublin:20251017T223000
DTSTAMP:20260422T152811
CREATED:20251001T150621Z
LAST-MODIFIED:20251001T161122Z
UID:10052-1760731200-1760740200@cubanatapasbar.co.uk
SUMMARY:Dan Millson
DESCRIPTION:DAN MILLSON\nMadrid based singer-songwriter Dan Millson (guitar & vocals) performs a unique mixture of popular covers with pop/rock and folk influences. From Bill Withers to The Police\, Bob Marley to The Beatles\, and Coldplay to Oasis \n— \nJoin us at Cubana\, Sheffield’s premier live music venue located in the heart of Sheffield City Center. Experience the enchantment of live music every single night at Cubana Tapas Bar and Restaurant. \nOur resident musicians are ready to captivate you with their exceptional talent and soulful performances. Whether you’re seeking a soothing evening of smooth\, easy listening vibes or a dynamic fusion of upbeat popular classics\, Cubana has it all. Immerse yourself in a mesmerizing blend of Soul\, Funk\, Jazz\, Blues\, R&B\, Pop\, and more! \nOur stage is set to showcase the finest local and touring artists\, bringing you an unparalleled live music experience. Discover the musical talents that grace Cubana this month by exploring our carefully curated listings below. Each performance promises to be a unique and unforgettable event. \nWhile you enjoy the incredible live music\, treat yourself to the delightful flavors of our tapas and drinks. Book a table and indulge in our delectable culinary offerings while you soak in the sultry rhythms and mellow vibes that fill the air. \nAt Cubana\, we are committed to supporting the incredible musicians who have faced challenging times recently. By hosting an abundance of gigs\, we aim to provide them with the platform they deserve while delivering exceptional entertainment to our cherished audience. Join us in celebrating the resurgence of live music and let the rhythms flow once again! \nDon’t miss out on the ultimate live music experience in Sheffield. Visit Cubana Tapas Bar and Restaurant today and immerse yourself in the magic of live music that will leave you craving for more. \nCubana Tapas Bar\n4 Leopold Sq\,\nSheffield City Center\,\nSheffield\,\nS1 2JG \nhttps://goo.gl/maps/keWiVa2rsZr8Kdbn7
URL:https://cubanatapasbar.co.uk/events/event/dan-millson-164/
LOCATION:Cubana Tapas Bar\, Cubana Tapas Bar\, 4 Leopold Square\, Sheffield\, S1 2JG\, United Kingdom
CATEGORIES:Upcoming
ATTACH;FMTTYPE=image/jpeg:https://cubanatapasbar.co.uk/events/wp-content/uploads/2023/03/Dan-Milson.jpeg
ORGANIZER;CN="Cubana Tapas Bar":MAILTO:info@cubanatapasbar.co.uk
END:VEVENT
BEGIN:VEVENT
DTSTART;TZID=Europe/Dublin:20251017T204500
DTEND;TZID=Europe/Dublin:20251017T224500
DTSTAMP:20260422T152811
CREATED:20251001T150620Z
LAST-MODIFIED:20251001T161213Z
UID:10051-1760733900-1760741100@cubanatapasbar.co.uk
SUMMARY:GMen Soul Band ft Jack Harper
DESCRIPTION:GMEN SOUL BAND featuring JACK HARPER\nThe GMen Soul Band bring over 13 years of delivery uplifting live soul music experiences with a full brass section that includes the mega saxophonist STEVE BEIGHTON!!! \nThis fabulous 8-piece outfit will tonight be joined by Blues and Soul legend Jack Harper delivering- get ready for an electrifying performance of classic Stax\, Motown\, and Northern Soul hits!\nFrom Otis Redding and Sam & Dave to The Temptations and Stevie Wonder\, their setlist is packed with legendary grooves\, that are sure to have you dancing the night away!!!
URL:https://cubanatapasbar.co.uk/events/event/gmen-soul-band-ft-jack-harper/
LOCATION:Cubana Tapas Bar\, Cubana Tapas Bar\, 4 Leopold Square\, Sheffield\, S1 2JG\, United Kingdom
CATEGORIES:This week events
ATTACH;FMTTYPE=image/jpeg:https://cubanatapasbar.co.uk/events/wp-content/uploads/2025/07/GMEN-SOUL.jpg
ORGANIZER;CN="Cubana Tapas Bar":MAILTO:info@cubanatapasbar.co.uk
END:VEVENT
BEGIN:VEVENT
DTSTART;TZID=Europe/Dublin:20251017T224500
DTEND;TZID=Europe/Dublin:20251018T020000
DTSTAMP:20260422T152811
CREATED:20251001T150820Z
LAST-MODIFIED:20251001T161233Z
UID:10078-1760741100-1760752800@cubanatapasbar.co.uk
SUMMARY:DJ Roly (Havana\, Cuba)
DESCRIPTION:VIVA REGGAETON – EVERY FRIDAY\nCUBANA COCKTAIL LOUNGE- DOWNSTAIRS from 10pm \nSheffields original Latino Club night… Latin music\, Salsa\, Samba\, Mambo\, Bachata. Special guest DJs EVERY WEEK
URL:https://cubanatapasbar.co.uk/events/event/dj-roly-havana-cuba-24/
LOCATION:Cubana Tapas Bar\, Cubana Tapas Bar\, 4 Leopold Square\, Sheffield\, S1 2JG\, United Kingdom
CATEGORIES:This week events
ATTACH;FMTTYPE=image/jpeg:https://cubanatapasbar.co.uk/events/wp-content/uploads/2019/01/rolyphoto.jpg
ORGANIZER;CN="Cubana Tapas Bar":MAILTO:info@cubanatapasbar.co.uk
END:VEVENT
END:VCALENDAR