BEGIN:VCALENDAR
VERSION:2.0
PRODID:-//Cubana Tapas Bar - ECPv6.7.0//NONSGML v1.0//EN
CALSCALE:GREGORIAN
METHOD:PUBLISH
X-WR-CALNAME:Cubana Tapas Bar
X-ORIGINAL-URL:https://cubanatapasbar.co.uk/events
X-WR-CALDESC:Events for Cubana Tapas Bar
REFRESH-INTERVAL;VALUE=DURATION:PT1H
X-Robots-Tag:noindex
X-PUBLISHED-TTL:PT1H
BEGIN:VTIMEZONE
TZID:Europe/Dublin
BEGIN:STANDARD
TZOFFSETFROM:+0000
TZOFFSETTO:+0100
TZNAME:IST
DTSTART:20240331T010000
END:STANDARD
BEGIN:DAYLIGHT
TZOFFSETFROM:+0100
TZOFFSETTO:+0000
TZNAME:GMT
DTSTART:20241027T010000
END:DAYLIGHT
END:VTIMEZONE
BEGIN:VEVENT
DTSTART;TZID=Europe/Dublin:20240421T190000
DTEND;TZID=Europe/Dublin:20240421T230000
DTSTAMP:20260423T142611
CREATED:20240401T054107Z
LAST-MODIFIED:20240403T093530Z
UID:7488-1713726000-1713740400@cubanatapasbar.co.uk
SUMMARY:John Reilly & Lewis Nitikman - Celebrate the music of Elton John & Billy Joel
DESCRIPTION:Tapas Restaurant (upstairs) – John Reilly & Lewis Nitikman – Celebrate the music of Elton John & Billy Joel \nSinger songwriter John Reilly and Canadian pianist and co-writer Lewis Nitikman are returning to Cubana\, this time to celebrate the music of Sir Elton John\, Bernie Taupin and also Billy Joel which have been a massive influence on the careers of both John and Lewis\, so much so that they decided a couple of years back to play some gigs as a homage this amazing trio. This will be a truly unique evening of stunning vocals and outstanding piano\, expect to hear all your favourite Elton tunes including ‘Your Song’ and ‘Candle in the Wind’ and Billy Joel’s ‘Tell Her About It’ and ‘Uptown Girl’ you’ll also hear songs you may not be so familiar with. It’s not a tribute\, it’s a true celebration of these wonderful\, timeless tunes!! \n— \nJoin us at Cubana\, Sheffield’s premier live music venue located in the heart of Sheffield City Center. Experience the enchantment of live music every single night at Cubana Tapas Bar and Restaurant. \nOur resident musicians are ready to captivate you with their exceptional talent and soulful performances. Whether you’re seeking a soothing evening of smooth\, easy listening vibes or a dynamic fusion of upbeat popular classics\, Cubana has it all. Immerse yourself in a mesmerizing blend of Soul\, Funk\, Jazz\, Blues\, R&B\, Pop\, and more! \nOur stage is set to showcase the finest local and touring artists\, bringing you an unparalleled live music experience. Discover the musical talents that grace Cubana this month by exploring our carefully curated listings below. Each performance promises to be a unique and unforgettable event. \nWhile you enjoy the incredible live music\, treat yourself to the delightful flavors of our tapas and drinks. Book a table and indulge in our delectable culinary offerings while you soak in the sultry rhythms and mellow vibes that fill the air. \nAt Cubana\, we are committed to supporting the incredible musicians who have faced challenging times recently. By hosting an abundance of gigs\, we aim to provide them with the platform they deserve while delivering exceptional entertainment to our cherished audience. Join us in celebrating the resurgence of live music and let the rhythms flow once again! \nDon’t miss out on the ultimate live music experience in Sheffield. Visit Cubana Tapas Bar and Restaurant today and immerse yourself in the magic of live music that will leave you craving for more. \nCubana Tapas Bar\n4 Leopold Sq\,\nSheffield City Center\,\nSheffield\,\nS1 2JG \nhttps://goo.gl/maps/keWiVa2rsZr8Kdbn7
URL:https://cubanatapasbar.co.uk/events/event/alicia-santos-31/
LOCATION:Cubana Tapas Bar\, Cubana Tapas Bar\, 4 Leopold Square\, Sheffield\, S1 2JG\, United Kingdom
CATEGORIES:Upcoming
ATTACH;FMTTYPE=image/jpeg:https://cubanatapasbar.co.uk/events/wp-content/uploads/2024/04/Cubana_APRIL24_Posters7.jpg
ORGANIZER;CN="Cubana Tapas Bar":MAILTO:info@cubanatapasbar.co.uk
END:VEVENT
END:VCALENDAR