BEGIN:VCALENDAR
VERSION:2.0
PRODID:-//Cubana Tapas Bar - ECPv6.7.0//NONSGML v1.0//EN
CALSCALE:GREGORIAN
METHOD:PUBLISH
X-ORIGINAL-URL:https://cubanatapasbar.co.uk/events
X-WR-CALDESC:Events for Cubana Tapas Bar
REFRESH-INTERVAL;VALUE=DURATION:PT1H
X-Robots-Tag:noindex
X-PUBLISHED-TTL:PT1H
BEGIN:VTIMEZONE
TZID:Europe/Dublin
BEGIN:STANDARD
TZOFFSETFROM:+0000
TZOFFSETTO:+0100
TZNAME:IST
DTSTART:20230326T010000
END:STANDARD
BEGIN:DAYLIGHT
TZOFFSETFROM:+0100
TZOFFSETTO:+0000
TZNAME:GMT
DTSTART:20231029T010000
END:DAYLIGHT
END:VTIMEZONE
BEGIN:VEVENT
DTSTART;TZID=Europe/Dublin:20231011T193000
DTEND;TZID=Europe/Dublin:20231011T213000
DTSTAMP:20260423T191920
CREATED:20231001T152647Z
LAST-MODIFIED:20231001T164534Z
UID:6581-1697052600-1697059800@cubanatapasbar.co.uk
SUMMARY:Andrew Clegg
DESCRIPTION:Tapas Restaurant (upstairs) – Andrew Clegg\nOne of the top blues singers in the country to an all round musical entertainer with an astonishing\, eclectic repertoire.\nFrom Blues and soul\, to swing and contemporary pop\, Jack has the ability and stage presence to provide a great night of musical entertainment. \n— \nWe are ready once again to provide you with a host of fabulous live music performances from the very many talented artists who have played here over recent times. \nWe would like to show our support to the amazing musicians who have been unable to work much and who have had a tough time of it lately by hosting as many gigs as possible. They too\, would love you to come down and see them perform. \nTo get back into the swing of things\, we will be mainly hosting solo artists and occasional duos. Get ready for plenty live Soul\, Funk\, Jazz\, Blues\, R&B\, pop and more! \nWhy not book a table for tapas and drinks and sit back and enjoy the laid back sultry rhythms and mellow vibes. \nWe cannot wait to get the rhythms flowing and finally get the show back on the road!
URL:https://cubanatapasbar.co.uk/events/event/andrew-clegg-41/
LOCATION:Cubana Tapas Bar\, Cubana Tapas Bar\, 4 Leopold Square\, Sheffield\, S1 2JG\, United Kingdom
CATEGORIES:Upcoming
ATTACH;FMTTYPE=image/jpeg:https://cubanatapasbar.co.uk/events/wp-content/uploads/2019/01/andrew-clegg.jpg
ORGANIZER;CN="Cubana Tapas Bar":MAILTO:info@cubanatapasbar.co.uk
END:VEVENT
BEGIN:VEVENT
DTSTART;TZID=Europe/Dublin:20231011T203000
DTEND;TZID=Europe/Dublin:20231011T230000
DTSTAMP:20260423T191920
CREATED:20231001T152648Z
LAST-MODIFIED:20231001T164603Z
UID:6582-1697056200-1697065200@cubanatapasbar.co.uk
SUMMARY:The Big Swing with JJ's Cocktail Club
DESCRIPTION:The Big Swing – every Wednesday in the DOWNSTAIRS LOUNGE BAR from 8:00pm\nFREE Swing Dance class for beginners \nTHE BIG SWING with JJ’s COCKTAIL CLUB\nA swing dance with a twist – JJ’s Cocktail Club will have you swinging to the sounds of pop music throughout the ages. Fronted by ‘Big Swing’ regular\, Jenny Chamberlain Smith is joined by her toe-tapping band playing a collection of specially arranged hits – nothing is off-limits!
URL:https://cubanatapasbar.co.uk/events/event/the-big-swing-with-jjs-cocktail-club-2/
LOCATION:Cubana Tapas Bar\, Cubana Tapas Bar\, 4 Leopold Square\, Sheffield\, S1 2JG\, United Kingdom
CATEGORIES:This week events
ATTACH;FMTTYPE=image/jpeg:https://cubanatapasbar.co.uk/events/wp-content/uploads/2023/03/JJ-Cocktail-Club-image-2.jpg
ORGANIZER;CN="Cubana Tapas Bar":MAILTO:info@cubanatapasbar.co.uk
END:VEVENT
END:VCALENDAR