BEGIN:VCALENDAR
VERSION:2.0
PRODID:-//Cubana Tapas Bar - ECPv6.7.0//NONSGML v1.0//EN
CALSCALE:GREGORIAN
METHOD:PUBLISH
X-WR-CALNAME:Cubana Tapas Bar
X-ORIGINAL-URL:https://cubanatapasbar.co.uk/events
X-WR-CALDESC:Events for Cubana Tapas Bar
REFRESH-INTERVAL;VALUE=DURATION:PT1H
X-Robots-Tag:noindex
X-PUBLISHED-TTL:PT1H
BEGIN:VTIMEZONE
TZID:Europe/Dublin
BEGIN:STANDARD
TZOFFSETFROM:+0000
TZOFFSETTO:+0100
TZNAME:IST
DTSTART:20230326T010000
END:STANDARD
BEGIN:DAYLIGHT
TZOFFSETFROM:+0100
TZOFFSETTO:+0000
TZNAME:GMT
DTSTART:20231029T010000
END:DAYLIGHT
END:VTIMEZONE
BEGIN:VEVENT
DTSTART;TZID=Europe/Dublin:20230927T193000
DTEND;TZID=Europe/Dublin:20230927T213000
DTSTAMP:20260423T160721
CREATED:20230813T210034Z
LAST-MODIFIED:20230816T220139Z
UID:6404-1695843000-1695850200@cubanatapasbar.co.uk
SUMMARY:Ian Britt
DESCRIPTION:Tapas Restaurant (upstairs) – Ian Britt\nA seasoned acoustic guitarist and singer-songwriter with over 14 million Spotify streams of his own music. From golden oldies right the way through to modern pop\, Ian will be performing songs you’ll know and love with his unique spin on them. \n— \nJoin us at Cubana\, Sheffield’s premier live music venue located in the heart of Sheffield City Center. Experience the enchantment of live music every single night at Cubana Tapas Bar and Restaurant. \nOur resident musicians are ready to captivate you with their exceptional talent and soulful performances. Whether you’re seeking a soothing evening of smooth\, easy listening vibes or a dynamic fusion of upbeat popular classics\, Cubana has it all. Immerse yourself in a mesmerizing blend of Soul\, Funk\, Jazz\, Blues\, R&B\, Pop\, and more! \nOur stage is set to showcase the finest local and touring artists\, bringing you an unparalleled live music experience. Discover the musical talents that grace Cubana this month by exploring our carefully curated listings below. Each performance promises to be a unique and unforgettable event. \nWhile you enjoy the incredible live music\, treat yourself to the delightful flavors of our tapas and drinks. Book a table and indulge in our delectable culinary offerings while you soak in the sultry rhythms and mellow vibes that fill the air. \nAt Cubana\, we are committed to supporting the incredible musicians who have faced challenging times recently. By hosting an abundance of gigs\, we aim to provide them with the platform they deserve while delivering exceptional entertainment to our cherished audience. Join us in celebrating the resurgence of live music and let the rhythms flow once again! \nDon’t miss out on the ultimate live music experience in Sheffield. Visit Cubana Tapas Bar and Restaurant today and immerse yourself in the magic of live music that will leave you craving for more. \nCubana Tapas Bar\n4 Leopold Sq\,\nSheffield City Center\,\nSheffield\,\nS1 2JG \nhttps://goo.gl/maps/keWiVa2rsZr8Kdbn7
URL:https://cubanatapasbar.co.uk/events/event/ian-britt-6/
LOCATION:Cubana Tapas Bar\, Cubana Tapas Bar\, 4 Leopold Square\, Sheffield\, S1 2JG\, United Kingdom
CATEGORIES:Upcoming
ATTACH;FMTTYPE=image/jpeg:https://cubanatapasbar.co.uk/events/wp-content/uploads/2023/03/Ian-Britt.jpeg
ORGANIZER;CN="Cubana Tapas Bar":MAILTO:info@cubanatapasbar.co.uk
END:VEVENT
BEGIN:VEVENT
DTSTART;TZID=Europe/Dublin:20230927T203000
DTEND;TZID=Europe/Dublin:20230927T230000
DTSTAMP:20260423T160721
CREATED:20230826T010032Z
LAST-MODIFIED:20230826T010349Z
UID:6555-1695846600-1695855600@cubanatapasbar.co.uk
SUMMARY:The Big Swing with The Dizzy Club
DESCRIPTION:The Big Swing – every Wednesday in the DOWNSTAIRS LOUNGE BAR from 8:00pm\nFREE Swing Dance class for beginners \nTHE BIG SWING with THE DIZZY CLUB\nSheffield’s most loved\, long standing swing band. Their music often crosses the genre divide simply because\nthey are so interesting musically. Influences of Hot Club\, 40’s swing\, Blue note Soul and Sinatra often with Latin\nrhythms gives them an edge.
URL:https://cubanatapasbar.co.uk/events/event/the-big-swing-with-the-dizzy-club-6/
LOCATION:Cubana Tapas Bar\, Cubana Tapas Bar\, 4 Leopold Square\, Sheffield\, S1 2JG\, United Kingdom
CATEGORIES:This week events
ATTACH;FMTTYPE=image/jpeg:https://cubanatapasbar.co.uk/events/wp-content/uploads/2019/03/The-Dizzy-Club.jpg
ORGANIZER;CN="Cubana Tapas Bar":MAILTO:info@cubanatapasbar.co.uk
END:VEVENT
END:VCALENDAR