BEGIN:VCALENDAR
VERSION:2.0
PRODID:-//Cubana Tapas Bar - ECPv6.7.0//NONSGML v1.0//EN
CALSCALE:GREGORIAN
METHOD:PUBLISH
X-WR-CALNAME:Cubana Tapas Bar
X-ORIGINAL-URL:https://cubanatapasbar.co.uk/events
X-WR-CALDESC:Events for Cubana Tapas Bar
REFRESH-INTERVAL;VALUE=DURATION:PT1H
X-Robots-Tag:noindex
X-PUBLISHED-TTL:PT1H
BEGIN:VTIMEZONE
TZID:Europe/Dublin
BEGIN:STANDARD
TZOFFSETFROM:+0000
TZOFFSETTO:+0100
TZNAME:IST
DTSTART:20230326T010000
END:STANDARD
BEGIN:DAYLIGHT
TZOFFSETFROM:+0100
TZOFFSETTO:+0000
TZNAME:GMT
DTSTART:20231029T010000
END:DAYLIGHT
END:VTIMEZONE
BEGIN:VEVENT
DTSTART;TZID=Europe/Dublin:20230901T180000
DTEND;TZID=Europe/Dublin:20230901T203000
DTSTAMP:20260425T153512
CREATED:20230813T205527Z
LAST-MODIFIED:20230816T212920Z
UID:6360-1693591200-1693600200@cubanatapasbar.co.uk
SUMMARY:Georgie Harrison
DESCRIPTION:Downstairs Cocktail Bar – Georgie Harrion\nGeorgie is a fun jazz/soul singer\, influenced by the likes of Etta James\, Caro Emerald\, Ray Charles and many more – an amazing voice. \n— \nJoin us at Cubana\, Sheffield’s premier live music venue located in the heart of Sheffield City Center. Experience the enchantment of live music every single night at Cubana Tapas Bar and Restaurant. \nOur resident musicians are ready to captivate you with their exceptional talent and soulful performances. Whether you’re seeking a soothing evening of smooth\, easy listening vibes or a dynamic fusion of upbeat popular classics\, Cubana has it all. Immerse yourself in a mesmerizing blend of Soul\, Funk\, Jazz\, Blues\, R&B\, Pop\, and more! \nOur stage is set to showcase the finest local and touring artists\, bringing you an unparalleled live music experience. Discover the musical talents that grace Cubana this month by exploring our carefully curated listings below. Each performance promises to be a unique and unforgettable event. \nWhile you enjoy the incredible live music\, treat yourself to the delightful flavors of our tapas and drinks. Book a table and indulge in our delectable culinary offerings while you soak in the sultry rhythms and mellow vibes that fill the air. \nAt Cubana\, we are committed to supporting the incredible musicians who have faced challenging times recently. By hosting an abundance of gigs\, we aim to provide them with the platform they deserve while delivering exceptional entertainment to our cherished audience. Join us in celebrating the resurgence of live music and let the rhythms flow once again! \nDon’t miss out on the ultimate live music experience in Sheffield. Visit Cubana Tapas Bar and Restaurant today and immerse yourself in the magic of live music that will leave you craving for more. \nCubana Tapas Bar\n4 Leopold Sq\,\nSheffield City Center\,\nSheffield\,\nS1 2JG \nhttps://goo.gl/maps/keWiVa2rsZr8Kdbn7
URL:https://cubanatapasbar.co.uk/events/event/georgie-harrison-69/
LOCATION:Cubana Tapas Bar\, Cubana Tapas Bar\, 4 Leopold Square\, Sheffield\, S1 2JG\, United Kingdom
CATEGORIES:This week events
ATTACH;FMTTYPE=image/jpeg:https://cubanatapasbar.co.uk/events/wp-content/uploads/2019/05/georgie-harrison.jpg
ORGANIZER;CN="Cubana Tapas Bar":MAILTO:info@cubanatapasbar.co.uk
END:VEVENT
BEGIN:VEVENT
DTSTART;TZID=Europe/Dublin:20230901T201500
DTEND;TZID=Europe/Dublin:20230901T221500
DTSTAMP:20260425T153512
CREATED:20230813T140024Z
LAST-MODIFIED:20230816T212945Z
UID:6353-1693599300-1693606500@cubanatapasbar.co.uk
SUMMARY:Katie Stewart
DESCRIPTION:Tapas Restaurant (Upstairs) – Katie Stewart\nBluesy anecdotes with a sprinkling of soulful riffs and beautiful vocals \n— \nJoin us at Cubana\, Sheffield’s premier live music venue located in the heart of Sheffield City Center. Experience the enchantment of live music every single night at Cubana Tapas Bar and Restaurant. \nOur resident musicians are ready to captivate you with their exceptional talent and soulful performances. Whether you’re seeking a soothing evening of smooth\, easy listening vibes or a dynamic fusion of upbeat popular classics\, Cubana has it all. Immerse yourself in a mesmerizing blend of Soul\, Funk\, Jazz\, Blues\, R&B\, Pop\, and more! \nOur stage is set to showcase the finest local and touring artists\, bringing you an unparalleled live music experience. Discover the musical talents that grace Cubana this month by exploring our carefully curated listings below. Each performance promises to be a unique and unforgettable event. \nWhile you enjoy the incredible live music\, treat yourself to the delightful flavors of our tapas and drinks. Book a table and indulge in our delectable culinary offerings while you soak in the sultry rhythms and mellow vibes that fill the air. \nAt Cubana\, we are committed to supporting the incredible musicians who have faced challenging times recently. By hosting an abundance of gigs\, we aim to provide them with the platform they deserve while delivering exceptional entertainment to our cherished audience. Join us in celebrating the resurgence of live music and let the rhythms flow once again! \nDon’t miss out on the ultimate live music experience in Sheffield. Visit Cubana Tapas Bar and Restaurant today and immerse yourself in the magic of live music that will leave you craving for more. \nCubana Tapas Bar\n4 Leopold Sq\,\nSheffield City Center\,\nSheffield\,\nS1 2JG \nhttps://goo.gl/maps/keWiVa2rsZr8Kdbn7
URL:https://cubanatapasbar.co.uk/events/event/katie-stewart-149/
LOCATION:Cubana Tapas Bar\, Cubana Tapas Bar\, 4 Leopold Square\, Sheffield\, S1 2JG\, United Kingdom
CATEGORIES:Upcoming
ATTACH;FMTTYPE=image/jpeg:https://cubanatapasbar.co.uk/events/wp-content/uploads/2019/01/Katie-Stewart.jpg
ORGANIZER;CN="Cubana Tapas Bar":MAILTO:info@cubanatapasbar.co.uk
END:VEVENT
BEGIN:VEVENT
DTSTART;TZID=Europe/Dublin:20230901T210000
DTEND;TZID=Europe/Dublin:20230902T020000
DTSTAMP:20260425T153512
CREATED:20230813T210105Z
LAST-MODIFIED:20230816T213035Z
UID:6412-1693602000-1693620000@cubanatapasbar.co.uk
SUMMARY:DJ Ebo (Fiesta Latina\,Leeds)
DESCRIPTION:VIVA REGGAETON – EVERY FRIDAY\nCUBANA COCKTAIL LOUNGE- DOWNSTAIRS from 9pm \nSheffields original Latino Club night… Latin music\, Salsa\, Samba\, Mambo\, Bachata. Special guest DJs EVERY WEEK
URL:https://cubanatapasbar.co.uk/events/event/dj-ebo-fiesta-latinaleeds-20/
LOCATION:Cubana Tapas Bar\, Cubana Tapas Bar\, 4 Leopold Square\, Sheffield\, S1 2JG\, United Kingdom
CATEGORIES:This week events
ATTACH;FMTTYPE=image/jpeg:https://cubanatapasbar.co.uk/events/wp-content/uploads/2019/02/dj-ebo.jpg
ORGANIZER;CN="Cubana Tapas Bar":MAILTO:info@cubanatapasbar.co.uk
END:VEVENT
BEGIN:VEVENT
DTSTART;TZID=Europe/Dublin:20230901T223000
DTEND;TZID=Europe/Dublin:20230902T003000
DTSTAMP:20260425T153513
CREATED:20230813T140025Z
LAST-MODIFIED:20230816T213053Z
UID:6354-1693607400-1693614600@cubanatapasbar.co.uk
SUMMARY:Joel White
DESCRIPTION:Tapas Restaurant (upstairs) – Joel White\nSoul Blues\, Jazz and Indy classics from Sheffield legend Joel white Ð piano and vocals \n— \nJoin us at Cubana\, Sheffield’s premier live music venue located in the heart of Sheffield City Center. Experience the enchantment of live music every single night at Cubana Tapas Bar and Restaurant. \nOur resident musicians are ready to captivate you with their exceptional talent and soulful performances. Whether you’re seeking a soothing evening of smooth\, easy listening vibes or a dynamic fusion of upbeat popular classics\, Cubana has it all. Immerse yourself in a mesmerizing blend of Soul\, Funk\, Jazz\, Blues\, R&B\, Pop\, and more! \nOur stage is set to showcase the finest local and touring artists\, bringing you an unparalleled live music experience. Discover the musical talents that grace Cubana this month by exploring our carefully curated listings below. Each performance promises to be a unique and unforgettable event. \nWhile you enjoy the incredible live music\, treat yourself to the delightful flavors of our tapas and drinks. Book a table and indulge in our delectable culinary offerings while you soak in the sultry rhythms and mellow vibes that fill the air. \nAt Cubana\, we are committed to supporting the incredible musicians who have faced challenging times recently. By hosting an abundance of gigs\, we aim to provide them with the platform they deserve while delivering exceptional entertainment to our cherished audience. Join us in celebrating the resurgence of live music and let the rhythms flow once again! \nDon’t miss out on the ultimate live music experience in Sheffield. Visit Cubana Tapas Bar and Restaurant today and immerse yourself in the magic of live music that will leave you craving for more. \nCubana Tapas Bar\n4 Leopold Sq\,\nSheffield City Center\,\nSheffield\,\nS1 2JG \nhttps://goo.gl/maps/keWiVa2rsZr8Kdbn7
URL:https://cubanatapasbar.co.uk/events/event/joel-white-92/
LOCATION:Cubana Tapas Bar\, Cubana Tapas Bar\, 4 Leopold Square\, Sheffield\, S1 2JG\, United Kingdom
CATEGORIES:Upcoming
ATTACH;FMTTYPE=image/jpeg:https://cubanatapasbar.co.uk/events/wp-content/uploads/2019/01/joel.jpg
ORGANIZER;CN="Cubana Tapas Bar":MAILTO:info@cubanatapasbar.co.uk
END:VEVENT
END:VCALENDAR