BEGIN:VCALENDAR
VERSION:2.0
PRODID:-//Cubana Tapas Bar - ECPv6.7.0//NONSGML v1.0//EN
CALSCALE:GREGORIAN
METHOD:PUBLISH
X-ORIGINAL-URL:https://cubanatapasbar.co.uk/events
X-WR-CALDESC:Events for Cubana Tapas Bar
REFRESH-INTERVAL;VALUE=DURATION:PT1H
X-Robots-Tag:noindex
X-PUBLISHED-TTL:PT1H
BEGIN:VTIMEZONE
TZID:Europe/Dublin
BEGIN:STANDARD
TZOFFSETFROM:+0000
TZOFFSETTO:+0100
TZNAME:IST
DTSTART:20230326T010000
END:STANDARD
BEGIN:DAYLIGHT
TZOFFSETFROM:+0100
TZOFFSETTO:+0000
TZNAME:GMT
DTSTART:20231029T010000
END:DAYLIGHT
END:VTIMEZONE
BEGIN:VEVENT
DTSTART;TZID=Europe/Dublin:20230701T133000
DTEND;TZID=Europe/Dublin:20230701T160000
DTSTAMP:20260425T204436
CREATED:20230630T221839Z
LAST-MODIFIED:20230630T221839Z
UID:6084-1688218200-1688227200@cubanatapasbar.co.uk
SUMMARY:Shane Durrant
DESCRIPTION:Bottomless brunch Ð Shane Durrant\nShane provides an afternoon of feel-good piano favourites performing a wide range of piano classics spanning all eras and decades in his own soulful and unique fashion. Sit back and be entertained by the one-of-a-kind Leeds-based singer/pianist. Not to be missed \n– \nCubana Bottomless Brunch Every Friday\, Saturday and Sunday Morning and Afternoon \nAt Cubana\, it is so much more than just the fabulous drinks on offer!!  \nWe wanted to raise the bar with our unique BB offering and provide a package which includes a substantial and wide selection of top quality food. Our talented chefs have put together a delicious combination of Spanish and Latin brunch dishes for you all to enjoy alongside the usual on tap supply of Prosecco\, Sangria\, cocktails and more.  \nFor more info: http://cubanatapasbar.co.uk/bottomless-brunch.php
URL:https://cubanatapasbar.co.uk/events/event/shane-durrant-163/
LOCATION:Cubana Tapas Bar\, Cubana Tapas Bar\, 4 Leopold Square\, Sheffield\, S1 2JG\, United Kingdom
CATEGORIES:Upcoming
ORGANIZER;CN="Cubana Tapas Bar":MAILTO:info@cubanatapasbar.co.uk
END:VEVENT
BEGIN:VEVENT
DTSTART;TZID=Europe/Dublin:20230701T210000
DTEND;TZID=Europe/Dublin:20230701T230000
DTSTAMP:20260425T204436
CREATED:20230630T221840Z
LAST-MODIFIED:20230630T221840Z
UID:6085-1688245200-1688252400@cubanatapasbar.co.uk
SUMMARY:Paul Newman
DESCRIPTION:Tapas Restaurant (upstairs)  –  Paul Newman\nA cool mix of classic contemporary and popular songbook favourites from Paul Newman Ð why not request your favourite  \n— \nJoin us at Cubana\, Sheffield’s premier live music venue located in the heart of Sheffield City Center. Experience the enchantment of live music every single night at Cubana Tapas Bar and Restaurant. \nOur resident musicians are ready to captivate you with their exceptional talent and soulful performances. Whether you’re seeking a soothing evening of smooth\, easy listening vibes or a dynamic fusion of upbeat popular classics\, Cubana has it all. Immerse yourself in a mesmerizing blend of Soul\, Funk\, Jazz\, Blues\, R&B\, Pop\, and more! \nOur stage is set to showcase the finest local and touring artists\, bringing you an unparalleled live music experience. Discover the musical talents that grace Cubana this month by exploring our carefully curated listings below. Each performance promises to be a unique and unforgettable event. \nWhile you enjoy the incredible live music\, treat yourself to the delightful flavors of our tapas and drinks. Book a table and indulge in our delectable culinary offerings while you soak in the sultry rhythms and mellow vibes that fill the air. \nAt Cubana\, we are committed to supporting the incredible musicians who have faced challenging times recently. By hosting an abundance of gigs\, we aim to provide them with the platform they deserve while delivering exceptional entertainment to our cherished audience. Join us in celebrating the resurgence of live music and let the rhythms flow once again! \nDon’t miss out on the ultimate live music experience in Sheffield. Visit Cubana Tapas Bar and Restaurant today and immerse yourself in the magic of live music that will leave you craving for more. \nCubana Tapas Bar\n4 Leopold Sq\,\nSheffield City Center\,\nSheffield\,\nS1 2JG \nhttps://goo.gl/maps/keWiVa2rsZr8Kdbn7
URL:https://cubanatapasbar.co.uk/events/event/paul-newman-200/
LOCATION:Cubana Tapas Bar\, Cubana Tapas Bar\, 4 Leopold Square\, Sheffield\, S1 2JG\, United Kingdom
CATEGORIES:Upcoming
ORGANIZER;CN="Cubana Tapas Bar":MAILTO:info@cubanatapasbar.co.uk
END:VEVENT
BEGIN:VEVENT
DTSTART;TZID=Europe/Dublin:20230701T210000
DTEND;TZID=Europe/Dublin:20230702T020000
DTSTAMP:20260425T204436
CREATED:20230630T222633Z
LAST-MODIFIED:20230630T222633Z
UID:6146-1688245200-1688263200@cubanatapasbar.co.uk
SUMMARY:DJ Roly Caballero (Havana\, Cuba)
DESCRIPTION:BRASILICA EVERY SATURDAY\nCUBANA COCKTAIL LOUNGE-DOWNSTAIRS from 9pm \nJoin us every Saturday for the perfect party mix up ofÊ Latin sounds.  \nFrom Brazil to Cuba via the UK and beyond…
URL:https://cubanatapasbar.co.uk/events/event/dj-roly-caballero-havana-cuba-43/
LOCATION:Cubana Tapas Bar\, Cubana Tapas Bar\, 4 Leopold Square\, Sheffield\, S1 2JG\, United Kingdom
CATEGORIES:This week events
ORGANIZER;CN="Cubana Tapas Bar":MAILTO:info@cubanatapasbar.co.uk
END:VEVENT
BEGIN:VEVENT
DTSTART;TZID=Europe/Dublin:20230701T231500
DTEND;TZID=Europe/Dublin:20230702T011500
DTSTAMP:20260425T204436
CREATED:20230630T221840Z
LAST-MODIFIED:20230630T221840Z
UID:6086-1688253300-1688260500@cubanatapasbar.co.uk
SUMMARY:Shane Durrant
DESCRIPTION:Tapas Restaurant (upstairs)- Shane Durrant\nShane provides an evening of feel-good piano favourites performing a wide range of piano classics spanning all eras and decades in his own soulful and unique fashion. Sit back and be entertained by the one-of-a-kind Leeds-based singer/pianist. Not to be missed \n— \nJoin us at Cubana\, Sheffield’s premier live music venue located in the heart of Sheffield City Center. Experience the enchantment of live music every single night at Cubana Tapas Bar and Restaurant. \nOur resident musicians are ready to captivate you with their exceptional talent and soulful performances. Whether you’re seeking a soothing evening of smooth\, easy listening vibes or a dynamic fusion of upbeat popular classics\, Cubana has it all. Immerse yourself in a mesmerizing blend of Soul\, Funk\, Jazz\, Blues\, R&B\, Pop\, and more! \nOur stage is set to showcase the finest local and touring artists\, bringing you an unparalleled live music experience. Discover the musical talents that grace Cubana this month by exploring our carefully curated listings below. Each performance promises to be a unique and unforgettable event. \nWhile you enjoy the incredible live music\, treat yourself to the delightful flavors of our tapas and drinks. Book a table and indulge in our delectable culinary offerings while you soak in the sultry rhythms and mellow vibes that fill the air. \nAt Cubana\, we are committed to supporting the incredible musicians who have faced challenging times recently. By hosting an abundance of gigs\, we aim to provide them with the platform they deserve while delivering exceptional entertainment to our cherished audience. Join us in celebrating the resurgence of live music and let the rhythms flow once again! \nDon’t miss out on the ultimate live music experience in Sheffield. Visit Cubana Tapas Bar and Restaurant today and immerse yourself in the magic of live music that will leave you craving for more. \nCubana Tapas Bar\n4 Leopold Sq\,\nSheffield City Center\,\nSheffield\,\nS1 2JG \nhttps://goo.gl/maps/keWiVa2rsZr8Kdbn7
URL:https://cubanatapasbar.co.uk/events/event/shane-durrant-164/
LOCATION:Cubana Tapas Bar\, Cubana Tapas Bar\, 4 Leopold Square\, Sheffield\, S1 2JG\, United Kingdom
CATEGORIES:Upcoming
ORGANIZER;CN="Cubana Tapas Bar":MAILTO:info@cubanatapasbar.co.uk
END:VEVENT
END:VCALENDAR