BEGIN:VCALENDAR
VERSION:2.0
PRODID:-//Cubana Tapas Bar - ECPv6.7.0//NONSGML v1.0//EN
CALSCALE:GREGORIAN
METHOD:PUBLISH
X-ORIGINAL-URL:https://cubanatapasbar.co.uk/events
X-WR-CALDESC:Events for Cubana Tapas Bar
REFRESH-INTERVAL;VALUE=DURATION:PT1H
X-Robots-Tag:noindex
X-PUBLISHED-TTL:PT1H
BEGIN:VTIMEZONE
TZID:Europe/Dublin
BEGIN:STANDARD
TZOFFSETFROM:+0000
TZOFFSETTO:+0100
TZNAME:IST
DTSTART:20230326T010000
END:STANDARD
BEGIN:DAYLIGHT
TZOFFSETFROM:+0100
TZOFFSETTO:+0000
TZNAME:GMT
DTSTART:20231029T010000
END:DAYLIGHT
END:VTIMEZONE
BEGIN:VEVENT
DTSTART;TZID=Europe/Dublin:20230629T193000
DTEND;TZID=Europe/Dublin:20230629T213000
DTSTAMP:20260425T204325
CREATED:20230601T204915Z
LAST-MODIFIED:20230610T150445Z
UID:5919-1688067000-1688074200@cubanatapasbar.co.uk
SUMMARY:Georgie Harrison
DESCRIPTION:Tapas Restaurant (upstairs)  –  GEORGIE HARRISON\nGeorgie is a fun jazz/soul singer\, influenced by the likes of Etta James\, Caro Emerald\, Ray Charles and many more – an amazing voice \nWe are ready once again to provide you with a host of fabulous live music performances from the very many talented artists who have played here over recent times. \nWe would  like to show our support to the amazing musicians who have been unable to work much and who have had a tough time of it lately by hosting as many gigs as possible. They too\, would love you to come down and see them perform. \nTo get back into the swing of things\, we will be mainly hosting solo artists and occasional duos. Get ready for plenty live Soul\, Funk\, Jazz\, Blues\, R&B\, pop and more! \nWhy not book a table for tapas and drinks and sit back and enjoy the laid back sultry rhythms and mellow vibes. \nWe cannot wait to get the rhythms flowing and finally get the show back on the road!
URL:https://cubanatapasbar.co.uk/events/event/georgie-harrison-63/
LOCATION:Cubana Tapas Bar\, Cubana Tapas Bar\, 4 Leopold Square\, Sheffield\, S1 2JG\, United Kingdom
CATEGORIES:Upcoming
ORGANIZER;CN="Cubana Tapas Bar":MAILTO:info@cubanatapasbar.co.uk
END:VEVENT
BEGIN:VEVENT
DTSTART;TZID=Europe/Dublin:20230629T210000
DTEND;TZID=Europe/Dublin:20230629T233000
DTSTAMP:20260425T204325
CREATED:20230601T204915Z
LAST-MODIFIED:20230610T150446Z
UID:5920-1688072400-1688081400@cubanatapasbar.co.uk
SUMMARY:What Katie Did Next
DESCRIPTION:Downstairs Cocktail Bar  – WHAT KATIE DID NEXT\nThis excellent 5-piece Funk\, Soul and Motown outfit is headed up Katie Stewart on vocals includes Col Hicks (guitar)\, Jeremy Meek (bass) Tom Bryson (drums) and Kieran Hancock (keyboard) playing covers from Bill withers\, Grace Jones\, Chaka Khan\, Jocelyn Brown\, Aretha Franklin\, Chic\, Sister Sledge and Amy Winehouse etc \n– \nWe are ready once again to provide you with a host of fabulous live music performances from the very many talented artists who have played here over recent times. \nWe would  like to show our support to the amazing musicians who have been unable to work much and who have had a tough time of it lately by hosting as many gigs as possible. They too\, would love you to come down and see them perform. \nTo get back into the swing of things\, we will be mainly hosting solo artists and occasional duos. Get ready for plenty live Soul\, Funk\, Jazz\, Blues\, R&B\, pop and more! \nWhy not book a table for tapas and drinks and sit back and enjoy the laid back sultry rhythms and mellow vibes. \nWe cannot wait to get the rhythms flowing and finally get the show back on the road!
URL:https://cubanatapasbar.co.uk/events/event/what-katie-did-next-12/
LOCATION:Cubana Tapas Bar\, Cubana Tapas Bar\, 4 Leopold Square\, Sheffield\, S1 2JG\, United Kingdom
CATEGORIES:This week events
ORGANIZER;CN="Cubana Tapas Bar":MAILTO:info@cubanatapasbar.co.uk
END:VEVENT
END:VCALENDAR